BEGIN:VCALENDAR
VERSION:2.0
PRODID:-//SCOTT BENNETT - ECPv6.15.11//NONSGML v1.0//EN
CALSCALE:GREGORIAN
METHOD:PUBLISH
X-ORIGINAL-URL:https://scottbennettcomedy.co.uk
X-WR-CALDESC:Events for SCOTT BENNETT
REFRESH-INTERVAL;VALUE=DURATION:PT1H
X-Robots-Tag:noindex
X-PUBLISHED-TTL:PT1H
BEGIN:VTIMEZONE
TZID:UTC
BEGIN:STANDARD
TZOFFSETFROM:+0000
TZOFFSETTO:+0000
TZNAME:UTC
DTSTART:20210101T000000
END:STANDARD
END:VTIMEZONE
BEGIN:VEVENT
DTSTART;TZID=UTC:20220325T200000
DTEND;TZID=UTC:20220325T220000
DTSTAMP:20260422T111700
CREATED:20220318T154350Z
LAST-MODIFIED:20220318T155603Z
UID:489-1648238400-1648245600@scottbennettcomedy.co.uk
SUMMARY:Coopers\, Otley
DESCRIPTION:
URL:https://scottbennettcomedy.co.uk/event/coopers-otley/
ATTACH;FMTTYPE=image/jpeg:https://scottbennettcomedy.co.uk/wp-content/uploads/2022/03/AOH2A3102-c-Andy-Hollingworth-Archive-scaled.jpg
END:VEVENT
BEGIN:VEVENT
DTSTART;TZID=UTC:20220325T200000
DTEND;TZID=UTC:20220325T220000
DTSTAMP:20260422T111700
CREATED:20220318T154350Z
LAST-MODIFIED:20220318T155640Z
UID:491-1648238400-1648245600@scottbennettcomedy.co.uk
SUMMARY:Original Oak\, Headingley Leeds
DESCRIPTION:
URL:https://scottbennettcomedy.co.uk/event/original-oak-headingley-leeds/
ATTACH;FMTTYPE=image/jpeg:https://scottbennettcomedy.co.uk/wp-content/uploads/2022/03/AOH2A3102-c-Andy-Hollingworth-Archive-scaled.jpg
END:VEVENT
BEGIN:VEVENT
DTSTART;TZID=UTC:20220324T200000
DTEND;TZID=UTC:20220324T220000
DTSTAMP:20260422T111700
CREATED:20220318T154350Z
LAST-MODIFIED:20220318T155456Z
UID:487-1648152000-1648159200@scottbennettcomedy.co.uk
SUMMARY:Aylestone Black Horse\, Leicester (Tour Warm up)
DESCRIPTION:
URL:https://scottbennettcomedy.co.uk/event/aylestone-black-horse-leicester-tour-warm-up/
ATTACH;FMTTYPE=image/jpeg:https://scottbennettcomedy.co.uk/wp-content/uploads/2022/03/GREAT-SCOTT_1920x1080-imageonly.jpg
END:VEVENT
BEGIN:VEVENT
DTSTART;TZID=UTC:20220321T200000
DTEND;TZID=UTC:20220321T220000
DTSTAMP:20260422T111700
CREATED:20220318T154350Z
LAST-MODIFIED:20220318T155411Z
UID:482-1647892800-1647900000@scottbennettcomedy.co.uk
SUMMARY:Always Be Comedy\, Kennington London (Tour Warm up)
DESCRIPTION:
URL:https://scottbennettcomedy.co.uk/event/always-be-comedy-kennington-london-tour-warm-up/
ATTACH;FMTTYPE=image/jpeg:https://scottbennettcomedy.co.uk/wp-content/uploads/2022/03/GREAT-SCOTT_1920x1080-imageonly.jpg
END:VEVENT
BEGIN:VEVENT
DTSTART;TZID=UTC:20220319T200000
DTEND;TZID=UTC:20220319T220000
DTSTAMP:20260422T111700
CREATED:20220318T154350Z
LAST-MODIFIED:20220318T155358Z
UID:480-1647720000-1647727200@scottbennettcomedy.co.uk
SUMMARY:Hampton School\, Private gig
DESCRIPTION:
URL:https://scottbennettcomedy.co.uk/event/hampton-school-private-gig/
ATTACH;FMTTYPE=image/jpeg:https://scottbennettcomedy.co.uk/wp-content/uploads/2022/03/AOH2A3102-c-Andy-Hollingworth-Archive-scaled.jpg
END:VEVENT
BEGIN:VEVENT
DTSTART;TZID=UTC:20220318T200000
DTEND;TZID=UTC:20220318T220000
DTSTAMP:20260422T111700
CREATED:20220318T154350Z
LAST-MODIFIED:20220318T154350Z
UID:472-1647633600-1647640800@scottbennettcomedy.co.uk
SUMMARY:Headliners\, Chiswick
DESCRIPTION:
URL:https://scottbennettcomedy.co.uk/event/headliners-chiswick/
ATTACH;FMTTYPE=image/jpeg:https://scottbennettcomedy.co.uk/wp-content/uploads/2022/03/AOH2A3102-c-Andy-Hollingworth-Archive-scaled.jpg
END:VEVENT
BEGIN:VEVENT
DTSTART;TZID=UTC:20220318T200000
DTEND;TZID=UTC:20220318T220000
DTSTAMP:20260422T111700
CREATED:20220318T154350Z
LAST-MODIFIED:20220318T154538Z
UID:475-1647633600-1647640800@scottbennettcomedy.co.uk
SUMMARY:Fuzzy Bear Comedy Club\, Windsor
DESCRIPTION:
URL:https://scottbennettcomedy.co.uk/event/fuzzy-bear-comedy-club-windsor/
ATTACH;FMTTYPE=image/jpeg:https://scottbennettcomedy.co.uk/wp-content/uploads/2022/03/AOH2A3102-c-Andy-Hollingworth-Archive-scaled.jpg
END:VEVENT
END:VCALENDAR