BEGIN:VCALENDAR
VERSION:2.0
PRODID:-//SCOTT BENNETT - ECPv6.15.11//NONSGML v1.0//EN
CALSCALE:GREGORIAN
METHOD:PUBLISH
X-ORIGINAL-URL:https://scottbennettcomedy.co.uk
X-WR-CALDESC:Events for SCOTT BENNETT
REFRESH-INTERVAL;VALUE=DURATION:PT1H
X-Robots-Tag:noindex
X-PUBLISHED-TTL:PT1H
BEGIN:VTIMEZONE
TZID:UTC
BEGIN:STANDARD
TZOFFSETFROM:+0000
TZOFFSETTO:+0000
TZNAME:UTC
DTSTART:20210101T000000
END:STANDARD
END:VTIMEZONE
BEGIN:VEVENT
DTSTART;TZID=UTC:20221025T200000
DTEND;TZID=UTC:20221025T220000
DTSTAMP:20260422T065848
CREATED:20220318T154350Z
LAST-MODIFIED:20220403T134158Z
UID:575-1666728000-1666735200@scottbennettcomedy.co.uk
SUMMARY:The Comedy Store\, London - Great Scott
DESCRIPTION:
URL:https://scottbennettcomedy.co.uk/event/the-comedy-store-london-great-scott/
ATTACH;FMTTYPE=image/jpeg:https://scottbennettcomedy.co.uk/wp-content/uploads/2022/03/GREAT-SCOTT_1920x1080-imageonly.jpg
END:VEVENT
BEGIN:VEVENT
DTSTART;TZID=UTC:20221024T200000
DTEND;TZID=UTC:20221024T220000
DTSTAMP:20260422T065848
CREATED:20220923T205638Z
LAST-MODIFIED:20220923T205638Z
UID:942-1666641600-1666648800@scottbennettcomedy.co.uk
SUMMARY:Comedy At Work\, Stratford-Upon-Avon
DESCRIPTION:
URL:https://scottbennettcomedy.co.uk/event/comedy-at-work-stratford-upon-avon/
ATTACH;FMTTYPE=image/jpeg:https://scottbennettcomedy.co.uk/wp-content/uploads/2022/03/AOH2A3102-c-Andy-Hollingworth-Archive-scaled.jpg
END:VEVENT
BEGIN:VEVENT
DTSTART;TZID=UTC:20221022T200000
DTEND;TZID=UTC:20221022T220000
DTSTAMP:20260422T065848
CREATED:20220318T154350Z
LAST-MODIFIED:20220403T134120Z
UID:573-1666468800-1666476000@scottbennettcomedy.co.uk
SUMMARY:Just the Tonic\, Reading - Great Scott
DESCRIPTION:
URL:https://scottbennettcomedy.co.uk/event/just-the-tonic-reading-great-scott/
ATTACH;FMTTYPE=image/jpeg:https://scottbennettcomedy.co.uk/wp-content/uploads/2022/03/GREAT-SCOTT_1920x1080-imageonly.jpg
END:VEVENT
BEGIN:VEVENT
DTSTART;TZID=UTC:20221021T200000
DTEND;TZID=UTC:20221021T220000
DTSTAMP:20260422T065848
CREATED:20220318T154350Z
LAST-MODIFIED:20220403T134043Z
UID:571-1666382400-1666389600@scottbennettcomedy.co.uk
SUMMARY:Hen and Chicken\, Bristol - Great Scott
DESCRIPTION:
URL:https://scottbennettcomedy.co.uk/event/hen-and-chicken-bristol-great-scott/
ATTACH;FMTTYPE=image/jpeg:https://scottbennettcomedy.co.uk/wp-content/uploads/2022/03/GREAT-SCOTT_1920x1080-imageonly.jpg
END:VEVENT
BEGIN:VEVENT
DTSTART;TZID=UTC:20221020T200000
DTEND;TZID=UTC:20221020T220000
DTSTAMP:20260422T065848
CREATED:20220318T154350Z
LAST-MODIFIED:20220403T134016Z
UID:569-1666296000-1666303200@scottbennettcomedy.co.uk
SUMMARY:Wyvern Theatre\, Swindon - Great Scott
DESCRIPTION:
URL:https://scottbennettcomedy.co.uk/event/wyvern-theatre-swindon-great-scott/
ATTACH;FMTTYPE=image/jpeg:https://scottbennettcomedy.co.uk/wp-content/uploads/2022/03/GREAT-SCOTT_1920x1080-imageonly.jpg
END:VEVENT
BEGIN:VEVENT
DTSTART;TZID=UTC:20221019T200000
DTEND;TZID=UTC:20221019T220000
DTSTAMP:20260422T065848
CREATED:20220923T205604Z
LAST-MODIFIED:20220923T205604Z
UID:940-1666209600-1666216800@scottbennettcomedy.co.uk
SUMMARY:Macclesfield Comedy Club
DESCRIPTION:
URL:https://scottbennettcomedy.co.uk/event/macclesfield-comedy-club/
ATTACH;FMTTYPE=image/jpeg:https://scottbennettcomedy.co.uk/wp-content/uploads/2022/03/AOH2A3102-c-Andy-Hollingworth-Archive-scaled.jpg
END:VEVENT
BEGIN:VEVENT
DTSTART;TZID=UTC:20221015T200000
DTEND;TZID=UTC:20221015T220000
DTSTAMP:20260422T065848
CREATED:20220318T154350Z
LAST-MODIFIED:20220403T133939Z
UID:567-1665864000-1665871200@scottbennettcomedy.co.uk
SUMMARY:Docks Academy\, Grimsby - Great Scott
DESCRIPTION:
URL:https://scottbennettcomedy.co.uk/event/arts-centre-colchester-great-scott-2/
ATTACH;FMTTYPE=image/jpeg:https://scottbennettcomedy.co.uk/wp-content/uploads/2022/03/GREAT-SCOTT_1920x1080-imageonly.jpg
END:VEVENT
BEGIN:VEVENT
DTSTART;TZID=UTC:20221014T200000
DTEND;TZID=UTC:20221014T220000
DTSTAMP:20260422T065848
CREATED:20220318T154350Z
LAST-MODIFIED:20220403T133909Z
UID:565-1665777600-1665784800@scottbennettcomedy.co.uk
SUMMARY:Arts Centre\, Colchester - Great Scott
DESCRIPTION:
URL:https://scottbennettcomedy.co.uk/event/arts-centre-colchester-great-scott/
ATTACH;FMTTYPE=image/jpeg:https://scottbennettcomedy.co.uk/wp-content/uploads/2022/03/GREAT-SCOTT_1920x1080-imageonly.jpg
END:VEVENT
BEGIN:VEVENT
DTSTART;TZID=UTC:20221013T200000
DTEND;TZID=UTC:20221013T220000
DTSTAMP:20260422T065848
CREATED:20220318T154350Z
LAST-MODIFIED:20220403T133841Z
UID:563-1665691200-1665698400@scottbennettcomedy.co.uk
SUMMARY:The Wardrobe\, Leeds - Great Scott
DESCRIPTION:
URL:https://scottbennettcomedy.co.uk/event/the-wardrobe-leeds-great-scott/
ATTACH;FMTTYPE=image/jpeg:https://scottbennettcomedy.co.uk/wp-content/uploads/2022/03/GREAT-SCOTT_1920x1080-imageonly.jpg
END:VEVENT
BEGIN:VEVENT
DTSTART;TZID=UTC:20221010T200000
DTEND;TZID=UTC:20221010T220000
DTSTAMP:20260422T065848
CREATED:20220923T205536Z
LAST-MODIFIED:20220923T205536Z
UID:938-1665432000-1665439200@scottbennettcomedy.co.uk
SUMMARY:Nice & Spiky Comedy\, South Bank
DESCRIPTION:
URL:https://scottbennettcomedy.co.uk/event/nice-spiky-comedy-south-bank/
ATTACH;FMTTYPE=image/jpeg:https://scottbennettcomedy.co.uk/wp-content/uploads/2022/03/AOH2A3102-c-Andy-Hollingworth-Archive-scaled.jpg
END:VEVENT
BEGIN:VEVENT
DTSTART;TZID=UTC:20221009T200000
DTEND;TZID=UTC:20221009T220000
DTSTAMP:20260422T065848
CREATED:20220923T205436Z
LAST-MODIFIED:20220923T205436Z
UID:936-1665345600-1665352800@scottbennettcomedy.co.uk
SUMMARY:Comedy Festival\, Wetherby
DESCRIPTION:
URL:https://scottbennettcomedy.co.uk/event/comedy-festival-wetherby/
ATTACH;FMTTYPE=image/jpeg:https://scottbennettcomedy.co.uk/wp-content/uploads/2022/03/AOH2A3102-c-Andy-Hollingworth-Archive-scaled.jpg
END:VEVENT
BEGIN:VEVENT
DTSTART;TZID=UTC:20221008T200000
DTEND;TZID=UTC:20221008T220000
DTSTAMP:20260422T065848
CREATED:20220318T154350Z
LAST-MODIFIED:20220403T133756Z
UID:561-1665259200-1665266400@scottbennettcomedy.co.uk
SUMMARY:G-Live\, Guildford - Great Scott
DESCRIPTION:
URL:https://scottbennettcomedy.co.uk/event/g-live-guildford-great-scott/
ATTACH;FMTTYPE=image/jpeg:https://scottbennettcomedy.co.uk/wp-content/uploads/2022/03/GREAT-SCOTT_1920x1080-imageonly.jpg
END:VEVENT
BEGIN:VEVENT
DTSTART;TZID=UTC:20221007T200000
DTEND;TZID=UTC:20221007T220000
DTSTAMP:20260422T065848
CREATED:20220318T154350Z
LAST-MODIFIED:20220403T133809Z
UID:559-1665172800-1665180000@scottbennettcomedy.co.uk
SUMMARY:Cube\, Corby - Great Scott
DESCRIPTION:
URL:https://scottbennettcomedy.co.uk/event/cube-corby-great-scott/
ATTACH;FMTTYPE=image/jpeg:https://scottbennettcomedy.co.uk/wp-content/uploads/2022/03/GREAT-SCOTT_1920x1080-imageonly.jpg
END:VEVENT
BEGIN:VEVENT
DTSTART;TZID=UTC:20221006T200000
DTEND;TZID=UTC:20221006T220000
DTSTAMP:20260422T065848
CREATED:20220318T154350Z
LAST-MODIFIED:20220403T133640Z
UID:557-1665086400-1665093600@scottbennettcomedy.co.uk
SUMMARY:The Stroller Hall\, Manchester - Great Scott
DESCRIPTION:
URL:https://scottbennettcomedy.co.uk/event/the-stroller-hall-manchester-great-scott/
ATTACH;FMTTYPE=image/jpeg:https://scottbennettcomedy.co.uk/wp-content/uploads/2022/03/GREAT-SCOTT_1920x1080-imageonly.jpg
END:VEVENT
BEGIN:VEVENT
DTSTART;TZID=UTC:20221005T200000
DTEND;TZID=UTC:20221005T220000
DTSTAMP:20260422T065848
CREATED:20220923T205404Z
LAST-MODIFIED:20220923T205404Z
UID:934-1665000000-1665007200@scottbennettcomedy.co.uk
SUMMARY:Canal House\, Nottingham
DESCRIPTION:Nottingham Comedy Festival – preview show.
URL:https://scottbennettcomedy.co.uk/event/canal-house-nottingham/
ATTACH;FMTTYPE=image/jpeg:https://scottbennettcomedy.co.uk/wp-content/uploads/2022/03/AOH2A3102-c-Andy-Hollingworth-Archive-scaled.jpg
END:VEVENT
BEGIN:VEVENT
DTSTART;TZID=UTC:20221003T200000
DTEND;TZID=UTC:20221003T220000
DTSTAMP:20260422T065848
CREATED:20220923T205311Z
LAST-MODIFIED:20220923T205311Z
UID:932-1664827200-1664834400@scottbennettcomedy.co.uk
SUMMARY:New Stuff\, Lemington
DESCRIPTION:
URL:https://scottbennettcomedy.co.uk/event/new-stuff-lemington/
ATTACH;FMTTYPE=image/jpeg:https://scottbennettcomedy.co.uk/wp-content/uploads/2022/03/AOH2A3102-c-Andy-Hollingworth-Archive-scaled.jpg
END:VEVENT
BEGIN:VEVENT
DTSTART;TZID=UTC:20221002T200000
DTEND;TZID=UTC:20221002T220000
DTSTAMP:20260422T065848
CREATED:20220318T154350Z
LAST-MODIFIED:20220923T204729Z
UID:929-1664740800-1664748000@scottbennettcomedy.co.uk
SUMMARY:Aberystwyth Comedy Festival
DESCRIPTION:
URL:https://scottbennettcomedy.co.uk/event/aberystwyth-comedy-festival/
ATTACH;FMTTYPE=image/jpeg:https://scottbennettcomedy.co.uk/wp-content/uploads/2022/03/AOH2A3102-c-Andy-Hollingworth-Archive-scaled.jpg
END:VEVENT
BEGIN:VEVENT
DTSTART;TZID=UTC:20221001T200000
DTEND;TZID=UTC:20221001T220000
DTSTAMP:20260422T065848
CREATED:20220318T154350Z
LAST-MODIFIED:20220403T133557Z
UID:555-1664654400-1664661600@scottbennettcomedy.co.uk
SUMMARY:Just the Tonic\, Nottingham - Great Scott
DESCRIPTION:
URL:https://scottbennettcomedy.co.uk/event/just-the-tonic-nottingham-great-scott/
ATTACH;FMTTYPE=image/jpeg:https://scottbennettcomedy.co.uk/wp-content/uploads/2022/03/GREAT-SCOTT_1920x1080-imageonly.jpg
END:VEVENT
BEGIN:VEVENT
DTSTART;TZID=UTC:20220930T200000
DTEND;TZID=UTC:20220930T220000
DTSTAMP:20260422T065848
CREATED:20220318T154350Z
LAST-MODIFIED:20220318T161513Z
UID:528-1664568000-1664575200@scottbennettcomedy.co.uk
SUMMARY:Royal & Derngate\, Northampton - Great Scott
DESCRIPTION:
URL:https://scottbennettcomedy.co.uk/event/middlesbrough-town-hall-middlesbrough-great-scott-2/
ATTACH;FMTTYPE=image/jpeg:https://scottbennettcomedy.co.uk/wp-content/uploads/2022/03/GREAT-SCOTT_1920x1080-imageonly.jpg
END:VEVENT
BEGIN:VEVENT
DTSTART;TZID=UTC:20220929T200000
DTEND;TZID=UTC:20220929T220000
DTSTAMP:20260422T065848
CREATED:20220318T154350Z
LAST-MODIFIED:20220318T161424Z
UID:526-1664481600-1664488800@scottbennettcomedy.co.uk
SUMMARY:Middlesbrough Town Hall\, Middlesbrough - Great Scott
DESCRIPTION:
URL:https://scottbennettcomedy.co.uk/event/middlesbrough-town-hall-middlesbrough-great-scott/
ATTACH;FMTTYPE=image/jpeg:https://scottbennettcomedy.co.uk/wp-content/uploads/2022/03/GREAT-SCOTT_1920x1080-imageonly.jpg
END:VEVENT
BEGIN:VEVENT
DTSTART;TZID=UTC:20220924T200000
DTEND;TZID=UTC:20220924T220000
DTSTAMP:20260422T065848
CREATED:20220318T154350Z
LAST-MODIFIED:20220318T161351Z
UID:524-1664049600-1664056800@scottbennettcomedy.co.uk
SUMMARY:The Witham\, Barnard Castle - Great Scott
DESCRIPTION:
URL:https://scottbennettcomedy.co.uk/event/the-witham-barnard-castle-great-scott/
ATTACH;FMTTYPE=image/jpeg:https://scottbennettcomedy.co.uk/wp-content/uploads/2022/03/GREAT-SCOTT_1920x1080-imageonly.jpg
END:VEVENT
BEGIN:VEVENT
DTSTART;TZID=UTC:20220923T200000
DTEND;TZID=UTC:20220923T220000
DTSTAMP:20260422T065848
CREATED:20220318T154350Z
LAST-MODIFIED:20220318T161317Z
UID:522-1663963200-1663970400@scottbennettcomedy.co.uk
SUMMARY:Chorley Little Theatre\, Chorley - Great Scott
DESCRIPTION:
URL:https://scottbennettcomedy.co.uk/event/chorley-little-theatre-chorley-great-scott/
ATTACH;FMTTYPE=image/jpeg:https://scottbennettcomedy.co.uk/wp-content/uploads/2022/03/GREAT-SCOTT_1920x1080-imageonly.jpg
END:VEVENT
BEGIN:VEVENT
DTSTART;TZID=UTC:20220713T200000
DTEND;TZID=UTC:20220713T220000
DTSTAMP:20260422T065849
CREATED:20220318T154350Z
LAST-MODIFIED:20220403T134752Z
UID:583-1657742400-1657749600@scottbennettcomedy.co.uk
SUMMARY:Hilarity Bites\, Thirsk
DESCRIPTION:
URL:https://scottbennettcomedy.co.uk/event/hilarity-bites-thirsk/
LOCATION:Old Courthouse\, Westgate\, Thirsk\, North Yorkshire\, YO7 1QS
ATTACH;FMTTYPE=image/jpeg:https://scottbennettcomedy.co.uk/wp-content/uploads/2022/03/AOH2A3102-c-Andy-Hollingworth-Archive-scaled.jpg
END:VEVENT
BEGIN:VEVENT
DTSTART;TZID=UTC:20220624T200000
DTEND;TZID=UTC:20220624T220000
DTSTAMP:20260422T065849
CREATED:20220318T154350Z
LAST-MODIFIED:20220318T161238Z
UID:520-1656100800-1656108000@scottbennettcomedy.co.uk
SUMMARY:Bath Rondo\, Bath - Great Scott
DESCRIPTION:
URL:https://scottbennettcomedy.co.uk/event/bath-rondo-bath-great-scott/
ATTACH;FMTTYPE=image/jpeg:https://scottbennettcomedy.co.uk/wp-content/uploads/2022/03/GREAT-SCOTT_1920x1080-imageonly.jpg
END:VEVENT
BEGIN:VEVENT
DTSTART;TZID=UTC:20220617T200000
DTEND;TZID=UTC:20220617T220000
DTSTAMP:20260422T065849
CREATED:20220318T154350Z
LAST-MODIFIED:20220318T161204Z
UID:516-1655496000-1655503200@scottbennettcomedy.co.uk
SUMMARY:Darwen Library Theatre\, Darwen - Great Scott
DESCRIPTION:
URL:https://scottbennettcomedy.co.uk/event/darwen-library-theatre-darwen-great-scott/
ATTACH;FMTTYPE=image/jpeg:https://scottbennettcomedy.co.uk/wp-content/uploads/2022/03/GREAT-SCOTT_1920x1080-imageonly.jpg
END:VEVENT
BEGIN:VEVENT
DTSTART;TZID=UTC:20220528T200000
DTEND;TZID=UTC:20220528T220000
DTSTAMP:20260422T065849
CREATED:20220318T154350Z
LAST-MODIFIED:20220403T134429Z
UID:518-1653768000-1653775200@scottbennettcomedy.co.uk
SUMMARY:Frazer Theatre\, Knaresborough - Great Scott
DESCRIPTION:
URL:https://scottbennettcomedy.co.uk/event/frazer-theatre-knaresborough-great-scott/
ATTACH;FMTTYPE=image/jpeg:https://scottbennettcomedy.co.uk/wp-content/uploads/2022/03/GREAT-SCOTT_1920x1080-imageonly.jpg
END:VEVENT
BEGIN:VEVENT
DTSTART;TZID=UTC:20220527T200000
DTEND;TZID=UTC:20220527T220000
DTSTAMP:20260422T065849
CREATED:20220318T154350Z
LAST-MODIFIED:20220318T161017Z
UID:514-1653681600-1653688800@scottbennettcomedy.co.uk
SUMMARY:Farnham Maltings\, Farnham - Great Scott
DESCRIPTION:
URL:https://scottbennettcomedy.co.uk/event/farnham-maltings-farnham-great-scott/
ATTACH;FMTTYPE=image/jpeg:https://scottbennettcomedy.co.uk/wp-content/uploads/2022/03/GREAT-SCOTT_1920x1080-imageonly.jpg
END:VEVENT
BEGIN:VEVENT
DTSTART;TZID=UTC:20220526T200000
DTEND;TZID=UTC:20220526T220000
DTSTAMP:20260422T065849
CREATED:20220318T154350Z
LAST-MODIFIED:20220318T160923Z
UID:511-1653595200-1653602400@scottbennettcomedy.co.uk
SUMMARY:Dorking Halls\, Dorking - Great Scott
DESCRIPTION:
URL:https://scottbennettcomedy.co.uk/event/dorking-halls-dorking-great-scott/
ATTACH;FMTTYPE=image/jpeg:https://scottbennettcomedy.co.uk/wp-content/uploads/2022/03/GREAT-SCOTT_1920x1080-imageonly.jpg
END:VEVENT
BEGIN:VEVENT
DTSTART;TZID=UTC:20220513T200000
DTEND;TZID=UTC:20220513T220000
DTSTAMP:20260422T065849
CREATED:20220318T154350Z
LAST-MODIFIED:20220318T160830Z
UID:509-1652472000-1652479200@scottbennettcomedy.co.uk
SUMMARY:The Riverfront\, Newport - Great Scott
DESCRIPTION:
URL:https://scottbennettcomedy.co.uk/event/the-riverfront-newport-great-scott/
ATTACH;FMTTYPE=image/jpeg:https://scottbennettcomedy.co.uk/wp-content/uploads/2022/03/GREAT-SCOTT_1920x1080-imageonly.jpg
END:VEVENT
BEGIN:VEVENT
DTSTART;TZID=UTC:20220331T200000
DTEND;TZID=UTC:20220331T220000
DTSTAMP:20260422T065849
CREATED:20220318T154350Z
LAST-MODIFIED:20220318T160118Z
UID:503-1648756800-1648764000@scottbennettcomedy.co.uk
SUMMARY:Saltaire Brewery\, Saltaire
DESCRIPTION:
URL:https://scottbennettcomedy.co.uk/event/saltaire-brewery-saltaire/
ATTACH;FMTTYPE=image/jpeg:https://scottbennettcomedy.co.uk/wp-content/uploads/2022/03/AOH2A3102-c-Andy-Hollingworth-Archive-scaled.jpg
END:VEVENT
END:VCALENDAR