BEGIN:VCALENDAR
VERSION:2.0
PRODID:-//SCOTT BENNETT - ECPv6.15.11//NONSGML v1.0//EN
CALSCALE:GREGORIAN
METHOD:PUBLISH
X-ORIGINAL-URL:https://scottbennettcomedy.co.uk
X-WR-CALDESC:Events for SCOTT BENNETT
REFRESH-INTERVAL;VALUE=DURATION:PT1H
X-Robots-Tag:noindex
X-PUBLISHED-TTL:PT1H
BEGIN:VTIMEZONE
TZID:UTC
BEGIN:STANDARD
TZOFFSETFROM:+0000
TZOFFSETTO:+0000
TZNAME:UTC
DTSTART:20220101T000000
END:STANDARD
END:VTIMEZONE
BEGIN:VEVENT
DTSTART;TZID=UTC:20230304T190000
DTEND;TZID=UTC:20230304T203000
DTSTAMP:20260422T003900
CREATED:20230219T135853Z
LAST-MODIFIED:20230219T135853Z
UID:1702-1677956400-1677961800@scottbennettcomedy.co.uk
SUMMARY:Twin Oaks Chesterfield
DESCRIPTION:
URL:https://scottbennettcomedy.co.uk/event/twin-oaks-chesterfield/
LOCATION:Twin Oaks Hotel
ATTACH;FMTTYPE=image/jpeg:https://scottbennettcomedy.co.uk/wp-content/uploads/2022/03/AOH2A3102-c-Andy-Hollingworth-Archive-scaled.jpg
END:VEVENT
BEGIN:VEVENT
DTSTART;TZID=UTC:20230303T200000
DTEND;TZID=UTC:20230303T220000
DTSTAMP:20260422T003900
CREATED:20230219T134954Z
LAST-MODIFIED:20230219T135037Z
UID:1694-1677873600-1677880800@scottbennettcomedy.co.uk
SUMMARY:Cast Comedy Club - Doncaster Cast
DESCRIPTION:
URL:https://scottbennettcomedy.co.uk/event/cast-comedy-club-doncaster-cast/
LOCATION:Cast Theatre
ATTACH;FMTTYPE=image/jpeg:https://scottbennettcomedy.co.uk/wp-content/uploads/2022/03/AOH2A3102-c-Andy-Hollingworth-Archive-scaled.jpg
END:VEVENT
BEGIN:VEVENT
DTSTART;TZID=UTC:20230303T200000
DTEND;TZID=UTC:20230303T220000
DTSTAMP:20260422T003900
CREATED:20230219T134721Z
LAST-MODIFIED:20230219T134721Z
UID:1690-1677873600-1677880800@scottbennettcomedy.co.uk
SUMMARY:Last Laugh Comedy Club - Penistone
DESCRIPTION:
URL:https://scottbennettcomedy.co.uk/event/last-laugh-comedy-club-penistone/
LOCATION:The Paramount
ATTACH;FMTTYPE=image/jpeg:https://scottbennettcomedy.co.uk/wp-content/uploads/2022/03/AOH2A3102-c-Andy-Hollingworth-Archive-scaled.jpg
END:VEVENT
BEGIN:VEVENT
DTSTART;TZID=UTC:20230302T200000
DTEND;TZID=UTC:20230302T220000
DTSTAMP:20260422T003900
CREATED:20230219T134127Z
LAST-MODIFIED:20230219T134317Z
UID:1687-1677787200-1677794400@scottbennettcomedy.co.uk
SUMMARY:Comedy Crate - Stanwick
DESCRIPTION:
URL:https://scottbennettcomedy.co.uk/event/comedy-crate-stanwick/
LOCATION:The Duke of Wellington
ATTACH;FMTTYPE=image/jpeg:https://scottbennettcomedy.co.uk/wp-content/uploads/2022/03/AOH2A3102-c-Andy-Hollingworth-Archive-scaled.jpg
END:VEVENT
BEGIN:VEVENT
DTSTART;TZID=UTC:20230302T200000
DTEND;TZID=UTC:20230302T220000
DTSTAMP:20260422T003900
CREATED:20230219T133833Z
LAST-MODIFIED:20230219T133922Z
UID:1684-1677787200-1677794400@scottbennettcomedy.co.uk
SUMMARY:Comedy Crate - Northampton Picturedrome
DESCRIPTION:
URL:https://scottbennettcomedy.co.uk/event/comedy-crate-northampton-picturedrome/
ATTACH;FMTTYPE=image/jpeg:https://scottbennettcomedy.co.uk/wp-content/uploads/2022/03/AOH2A3102-c-Andy-Hollingworth-Archive-scaled.jpg
END:VEVENT
BEGIN:VEVENT
DTSTART;TZID=UTC:20230225T193000
DTEND;TZID=UTC:20230225T220000
DTSTAMP:20260422T003900
CREATED:20230201T003345Z
LAST-MODIFIED:20230201T003345Z
UID:1565-1677353400-1677362400@scottbennettcomedy.co.uk
SUMMARY:Nottingham - The Metronome - Great Scott Tour
DESCRIPTION:
URL:https://scottbennettcomedy.co.uk/event/nottingham-the-metronome-great-scott-tour/
LOCATION:The Metronome
ATTACH;FMTTYPE=image/jpeg:https://scottbennettcomedy.co.uk/wp-content/uploads/2022/03/GREAT-SCOTT_1920x1080-imageonly.jpg
END:VEVENT
BEGIN:VEVENT
DTSTART;TZID=UTC:20230224T193000
DTEND;TZID=UTC:20230224T220000
DTSTAMP:20260422T003900
CREATED:20230201T002121Z
LAST-MODIFIED:20230201T003010Z
UID:1559-1677267000-1677276000@scottbennettcomedy.co.uk
SUMMARY:Knaresborough - Frazer Theatre - Great Scott Tour
DESCRIPTION:
URL:https://scottbennettcomedy.co.uk/event/knaresborough-frazer-theatre-great-scott-tour/
LOCATION:Frazer Theatre
ATTACH;FMTTYPE=image/jpeg:https://scottbennettcomedy.co.uk/wp-content/uploads/2022/03/GREAT-SCOTT_1920x1080-imageonly.jpg
END:VEVENT
BEGIN:VEVENT
DTSTART;TZID=UTC:20230223T193000
DTEND;TZID=UTC:20230223T220000
DTSTAMP:20260422T003900
CREATED:20230201T002453Z
LAST-MODIFIED:20230201T002453Z
UID:1562-1677180600-1677189600@scottbennettcomedy.co.uk
SUMMARY:Darwen - The Library Theatre - Great Scott Tour
DESCRIPTION:
URL:https://scottbennettcomedy.co.uk/event/darwen-the-library-theatre-great-scott-tour/
LOCATION:Library Theatre
ATTACH;FMTTYPE=image/jpeg:https://scottbennettcomedy.co.uk/wp-content/uploads/2022/03/GREAT-SCOTT_1920x1080-imageonly.jpg
END:VEVENT
BEGIN:VEVENT
DTSTART;TZID=UTC:20230222T200000
DTEND;TZID=UTC:20230222T220000
DTSTAMP:20260422T003900
CREATED:20230219T132840Z
LAST-MODIFIED:20230219T132840Z
UID:1675-1677096000-1677103200@scottbennettcomedy.co.uk
SUMMARY:Leicester Hotshots - Leicester Comedy Festival
DESCRIPTION:
URL:https://scottbennettcomedy.co.uk/event/leicester-hotshots-leicester-comedy-festival/
ATTACH;FMTTYPE=image/jpeg:https://scottbennettcomedy.co.uk/wp-content/uploads/2022/03/AOH2A3102-c-Andy-Hollingworth-Archive-scaled.jpg
END:VEVENT
BEGIN:VEVENT
DTSTART;TZID=UTC:20230222T193000
DTEND;TZID=UTC:20230222T210000
DTSTAMP:20260422T003900
CREATED:20230219T135437Z
LAST-MODIFIED:20230219T135437Z
UID:1698-1677094200-1677099600@scottbennettcomedy.co.uk
SUMMARY:Leicester - Peter Pizzeria - Great Scott Tour (Extra date)
DESCRIPTION:
URL:https://scottbennettcomedy.co.uk/event/leicester-peter-pizzeria-great-scott-tour-extra-date/
LOCATION:Peters Pizzeria
ATTACH;FMTTYPE=image/jpeg:https://scottbennettcomedy.co.uk/wp-content/uploads/2022/03/GREAT-SCOTT_1920x1080-imageonly.jpg
END:VEVENT
BEGIN:VEVENT
DTSTART;TZID=UTC:20230220T200000
DTEND;TZID=UTC:20230220T220000
DTSTAMP:20260422T003900
CREATED:20230219T132634Z
LAST-MODIFIED:20230219T132634Z
UID:1673-1676923200-1676930400@scottbennettcomedy.co.uk
SUMMARY:Menphys Charity show Leicester Comedy Festival
DESCRIPTION:
URL:https://scottbennettcomedy.co.uk/event/charity-show-leicester-comedy-festival/
ATTACH;FMTTYPE=image/jpeg:https://scottbennettcomedy.co.uk/wp-content/uploads/2022/03/AOH2A3102-c-Andy-Hollingworth-Archive-scaled.jpg
END:VEVENT
BEGIN:VEVENT
DTSTART;TZID=UTC:20230219T193000
DTEND;TZID=UTC:20230219T210000
DTSTAMP:20260422T003900
CREATED:20230201T101825Z
LAST-MODIFIED:20230201T101825Z
UID:1608-1676835000-1676840400@scottbennettcomedy.co.uk
SUMMARY:Leicester - Brewdog - Great Scott Tour
DESCRIPTION:
URL:https://scottbennettcomedy.co.uk/event/leicester-brewdog-great-scott-tour/
LOCATION:Brewdog
ATTACH;FMTTYPE=image/jpeg:https://scottbennettcomedy.co.uk/wp-content/uploads/2022/03/GREAT-SCOTT_1920x1080-imageonly.jpg
END:VEVENT
BEGIN:VEVENT
DTSTART;TZID=UTC:20230209T200000
DTEND;TZID=UTC:20230209T220000
DTSTAMP:20260422T003900
CREATED:20230201T103812Z
LAST-MODIFIED:20230201T103812Z
UID:1626-1675972800-1675980000@scottbennettcomedy.co.uk
SUMMARY:Stroud - Crazy Bird Comedy Club
DESCRIPTION:
URL:https://scottbennettcomedy.co.uk/event/stroud-crazy-bird-comedy-club/
ATTACH;FMTTYPE=image/jpeg:https://scottbennettcomedy.co.uk/wp-content/uploads/2022/03/AOH2A3102-c-Andy-Hollingworth-Archive-scaled.jpg
END:VEVENT
BEGIN:VEVENT
DTSTART;TZID=UTC:20230208T200000
DTEND;TZID=UTC:20230208T220000
DTSTAMP:20260422T003900
CREATED:20230201T103223Z
LAST-MODIFIED:20230201T103223Z
UID:1623-1675886400-1675893600@scottbennettcomedy.co.uk
SUMMARY:Balsall Common Comedy Night
DESCRIPTION:
URL:https://scottbennettcomedy.co.uk/event/balsall-common-comedy-night/
LOCATION:Balsall Common
ATTACH;FMTTYPE=image/jpeg:https://scottbennettcomedy.co.uk/wp-content/uploads/2022/03/AOH2A3102-c-Andy-Hollingworth-Archive-scaled.jpg
END:VEVENT
BEGIN:VEVENT
DTSTART;TZID=UTC:20230207T200000
DTEND;TZID=UTC:20230207T220000
DTSTAMP:20260422T003900
CREATED:20230201T103040Z
LAST-MODIFIED:20230201T103040Z
UID:1621-1675800000-1675807200@scottbennettcomedy.co.uk
SUMMARY:Prescot - Bare Faced Comedy Club
DESCRIPTION:
URL:https://scottbennettcomedy.co.uk/event/prescot-bare-faced-comedy-club/
ATTACH;FMTTYPE=image/jpeg:https://scottbennettcomedy.co.uk/wp-content/uploads/2022/03/AOH2A3102-c-Andy-Hollingworth-Archive-scaled.jpg
END:VEVENT
BEGIN:VEVENT
DTSTART;TZID=UTC:20230204T200000
DTEND;TZID=UTC:20230204T220000
DTSTAMP:20260422T003900
CREATED:20230127T125428Z
LAST-MODIFIED:20230131T233556Z
UID:1488-1675540800-1675548000@scottbennettcomedy.co.uk
SUMMARY:Hereford - Farcical Comedy Club
DESCRIPTION:
URL:https://scottbennettcomedy.co.uk/event/hereford-farcical-comedy-club/
ATTACH;FMTTYPE=image/jpeg:https://scottbennettcomedy.co.uk/wp-content/uploads/2022/03/AOH2A3102-c-Andy-Hollingworth-Archive-scaled.jpg
END:VEVENT
BEGIN:VEVENT
DTSTART;TZID=UTC:20230203T193000
DTEND;TZID=UTC:20230203T220000
DTSTAMP:20260422T003900
CREATED:20230124T212841Z
LAST-MODIFIED:20230201T001902Z
UID:1386-1675452600-1675461600@scottbennettcomedy.co.uk
SUMMARY:Farnham - Maltings - Great Scott Tour
DESCRIPTION:
URL:https://scottbennettcomedy.co.uk/event/farnham-maltings-great-scott-tour/
LOCATION:maltings farnham
ATTACH;FMTTYPE=image/jpeg:https://scottbennettcomedy.co.uk/wp-content/uploads/2022/03/GREAT-SCOTT_1920x1080-imageonly.jpg
END:VEVENT
BEGIN:VEVENT
DTSTART;TZID=UTC:20230202T200000
DTEND;TZID=UTC:20230202T220000
DTSTAMP:20260422T003900
CREATED:20230124T212235Z
LAST-MODIFIED:20230201T102902Z
UID:1247-1675368000-1675375200@scottbennettcomedy.co.uk
SUMMARY:Upper Heyford - Laughing Ox Comedy Club
DESCRIPTION:
URL:https://scottbennettcomedy.co.uk/event/upper-heyford-laughing-ox-comedy-club/
ATTACH;FMTTYPE=image/jpeg:https://scottbennettcomedy.co.uk/wp-content/uploads/2022/03/AOH2A3102-c-Andy-Hollingworth-Archive-scaled.jpg
END:VEVENT
BEGIN:VEVENT
DTSTART;TZID=UTC:20230129T200000
DTEND;TZID=UTC:20230129T220000
DTSTAMP:20260422T003900
CREATED:20221219T201722Z
LAST-MODIFIED:20221219T201722Z
UID:1170-1675022400-1675029600@scottbennettcomedy.co.uk
SUMMARY:Off The Rails Comedy Club\, Glossop
DESCRIPTION:
URL:https://scottbennettcomedy.co.uk/event/off-the-rails-comedy-club-glossop/
ATTACH;FMTTYPE=image/jpeg:https://scottbennettcomedy.co.uk/wp-content/uploads/2022/03/AOH2A3102-c-Andy-Hollingworth-Archive-scaled.jpg
END:VEVENT
BEGIN:VEVENT
DTSTART;TZID=UTC:20230129T200000
DTEND;TZID=UTC:20230129T220000
DTSTAMP:20260422T003900
CREATED:20221219T201649Z
LAST-MODIFIED:20221219T201649Z
UID:1168-1675022400-1675029600@scottbennettcomedy.co.uk
SUMMARY:Comedy Club\, Riddington
DESCRIPTION:
URL:https://scottbennettcomedy.co.uk/event/comedy-club-riddington/
ATTACH;FMTTYPE=image/jpeg:https://scottbennettcomedy.co.uk/wp-content/uploads/2022/03/AOH2A3102-c-Andy-Hollingworth-Archive-scaled.jpg
END:VEVENT
BEGIN:VEVENT
DTSTART;TZID=UTC:20230128T200000
DTEND;TZID=UTC:20230128T220000
DTSTAMP:20260422T003900
CREATED:20221219T200352Z
LAST-MODIFIED:20221219T200352Z
UID:1123-1674936000-1674943200@scottbennettcomedy.co.uk
SUMMARY:Katie Fitzgeralds\, Stourbridge - Great Scott (Late Show)
DESCRIPTION:
URL:https://scottbennettcomedy.co.uk/event/katie-fitzgeralds-stourbridge-great-scott-late-show/
ATTACH;FMTTYPE=image/jpeg:https://scottbennettcomedy.co.uk/wp-content/uploads/2022/03/GREAT-SCOTT_1920x1080-imageonly.jpg
END:VEVENT
BEGIN:VEVENT
DTSTART;TZID=UTC:20230128T170000
DTEND;TZID=UTC:20230128T190000
DTSTAMP:20260422T003900
CREATED:20221219T200326Z
LAST-MODIFIED:20221219T200326Z
UID:1121-1674925200-1674932400@scottbennettcomedy.co.uk
SUMMARY:Katie Fitzgeralds\, Stourbridge - Great Scott (Early Show)
DESCRIPTION:
URL:https://scottbennettcomedy.co.uk/event/katie-fitzgeralds-stourbridge-great-scott-early-show/
ATTACH;FMTTYPE=image/jpeg:https://scottbennettcomedy.co.uk/wp-content/uploads/2022/03/GREAT-SCOTT_1920x1080-imageonly.jpg
END:VEVENT
BEGIN:VEVENT
DTSTART;TZID=UTC:20230127T200000
DTEND;TZID=UTC:20230127T220000
DTSTAMP:20260422T003900
CREATED:20221219T201624Z
LAST-MODIFIED:20221219T201624Z
UID:1166-1674849600-1674856800@scottbennettcomedy.co.uk
SUMMARY:Red Card Comedy Club\, Ipswich
DESCRIPTION:
URL:https://scottbennettcomedy.co.uk/event/red-card-comedy-club-ipswich/
ATTACH;FMTTYPE=image/jpeg:https://scottbennettcomedy.co.uk/wp-content/uploads/2022/03/AOH2A3102-c-Andy-Hollingworth-Archive-scaled.jpg
END:VEVENT
BEGIN:VEVENT
DTSTART;TZID=UTC:20230127T200000
DTEND;TZID=UTC:20230127T220000
DTSTAMP:20260422T003900
CREATED:20221219T201557Z
LAST-MODIFIED:20221219T201557Z
UID:1164-1674849600-1674856800@scottbennettcomedy.co.uk
SUMMARY:Comedy Club\, Ipswich
DESCRIPTION:
URL:https://scottbennettcomedy.co.uk/event/comedy-club-ipswich/
ATTACH;FMTTYPE=image/jpeg:https://scottbennettcomedy.co.uk/wp-content/uploads/2022/03/AOH2A3102-c-Andy-Hollingworth-Archive-scaled.jpg
END:VEVENT
BEGIN:VEVENT
DTSTART;TZID=UTC:20230126T200000
DTEND;TZID=UTC:20230126T220000
DTSTAMP:20260422T003900
CREATED:20221219T201535Z
LAST-MODIFIED:20221219T201535Z
UID:1162-1674763200-1674770400@scottbennettcomedy.co.uk
SUMMARY:Football Club\, Ipswich
DESCRIPTION:
URL:https://scottbennettcomedy.co.uk/event/football-club-ipswich/
ATTACH;FMTTYPE=image/jpeg:https://scottbennettcomedy.co.uk/wp-content/uploads/2022/03/AOH2A3102-c-Andy-Hollingworth-Archive-scaled.jpg
END:VEVENT
BEGIN:VEVENT
DTSTART;TZID=UTC:20230125T200000
DTEND;TZID=UTC:20230125T220000
DTSTAMP:20260422T003900
CREATED:20221219T201457Z
LAST-MODIFIED:20221219T201457Z
UID:1160-1674676800-1674684000@scottbennettcomedy.co.uk
SUMMARY:The Boat Show\, London
DESCRIPTION:
URL:https://scottbennettcomedy.co.uk/event/the-boat-show-london/
ATTACH;FMTTYPE=image/jpeg:https://scottbennettcomedy.co.uk/wp-content/uploads/2022/03/AOH2A3102-c-Andy-Hollingworth-Archive-scaled.jpg
END:VEVENT
BEGIN:VEVENT
DTSTART;TZID=UTC:20230123T200000
DTEND;TZID=UTC:20230123T220000
DTSTAMP:20260422T003900
CREATED:20221219T201421Z
LAST-MODIFIED:20221219T201421Z
UID:1158-1674504000-1674511200@scottbennettcomedy.co.uk
SUMMARY:Comedy Club\, Rotherham
DESCRIPTION:
URL:https://scottbennettcomedy.co.uk/event/comedy-club-rotherham/
ATTACH;FMTTYPE=image/jpeg:https://scottbennettcomedy.co.uk/wp-content/uploads/2022/03/AOH2A3102-c-Andy-Hollingworth-Archive-scaled.jpg
END:VEVENT
BEGIN:VEVENT
DTSTART;TZID=UTC:20230122T200000
DTEND;TZID=UTC:20230122T220000
DTSTAMP:20260422T003900
CREATED:20221219T201346Z
LAST-MODIFIED:20221219T201346Z
UID:1156-1674417600-1674424800@scottbennettcomedy.co.uk
SUMMARY:Comedy Club\, Harrogate
DESCRIPTION:
URL:https://scottbennettcomedy.co.uk/event/comedy-club-harrogate/
ATTACH;FMTTYPE=image/jpeg:https://scottbennettcomedy.co.uk/wp-content/uploads/2022/03/AOH2A3102-c-Andy-Hollingworth-Archive-scaled.jpg
END:VEVENT
BEGIN:VEVENT
DTSTART;TZID=UTC:20230121T200000
DTEND;TZID=UTC:20230121T220000
DTSTAMP:20260422T003900
CREATED:20221219T201317Z
LAST-MODIFIED:20221219T201317Z
UID:1154-1674331200-1674338400@scottbennettcomedy.co.uk
SUMMARY:Just The Tonic\, Nottingham
DESCRIPTION:
URL:https://scottbennettcomedy.co.uk/event/just-the-tonic-nottingham/
ATTACH;FMTTYPE=image/jpeg:https://scottbennettcomedy.co.uk/wp-content/uploads/2022/03/AOH2A3102-c-Andy-Hollingworth-Archive-scaled.jpg
END:VEVENT
BEGIN:VEVENT
DTSTART;TZID=UTC:20230120T200000
DTEND;TZID=UTC:20230120T220000
DTSTAMP:20260422T003900
CREATED:20221219T201230Z
LAST-MODIFIED:20221219T201230Z
UID:1152-1674244800-1674252000@scottbennettcomedy.co.uk
SUMMARY:Comedy Cow\, Milton Keynes
DESCRIPTION:
URL:https://scottbennettcomedy.co.uk/event/comedy-cow-milton-keynes/
ATTACH;FMTTYPE=image/jpeg:https://scottbennettcomedy.co.uk/wp-content/uploads/2022/03/AOH2A3102-c-Andy-Hollingworth-Archive-scaled.jpg
END:VEVENT
END:VCALENDAR