BEGIN:VCALENDAR
VERSION:2.0
PRODID:-//SCOTT BENNETT - ECPv6.15.11//NONSGML v1.0//EN
CALSCALE:GREGORIAN
METHOD:PUBLISH
X-ORIGINAL-URL:https://scottbennettcomedy.co.uk
X-WR-CALDESC:Events for SCOTT BENNETT
REFRESH-INTERVAL;VALUE=DURATION:PT1H
X-Robots-Tag:noindex
X-PUBLISHED-TTL:PT1H
BEGIN:VTIMEZONE
TZID:UTC
BEGIN:STANDARD
TZOFFSETFROM:+0000
TZOFFSETTO:+0000
TZNAME:UTC
DTSTART:20220101T000000
END:STANDARD
END:VTIMEZONE
BEGIN:VEVENT
DTSTART;TZID=UTC:20230422T190000
DTEND;TZID=UTC:20230422T210000
DTSTAMP:20260421T210939
CREATED:20230329T123109Z
LAST-MODIFIED:20230329T123109Z
UID:1786-1682190000-1682197200@scottbennettcomedy.co.uk
SUMMARY:Leeds
DESCRIPTION:
URL:https://scottbennettcomedy.co.uk/event/leeds/
ATTACH;FMTTYPE=image/jpeg:https://scottbennettcomedy.co.uk/wp-content/uploads/2022/03/AOH2A3102-c-Andy-Hollingworth-Archive-scaled.jpg
END:VEVENT
BEGIN:VEVENT
DTSTART;TZID=UTC:20230421T190000
DTEND;TZID=UTC:20230421T210000
DTSTAMP:20260421T210939
CREATED:20230329T122653Z
LAST-MODIFIED:20230329T122653Z
UID:1779-1682103600-1682110800@scottbennettcomedy.co.uk
SUMMARY:Barnstaple
DESCRIPTION:
URL:https://scottbennettcomedy.co.uk/event/barnstaple/
ATTACH;FMTTYPE=image/jpeg:https://scottbennettcomedy.co.uk/wp-content/uploads/2022/03/AOH2A3102-c-Andy-Hollingworth-Archive-scaled.jpg
END:VEVENT
BEGIN:VEVENT
DTSTART;TZID=UTC:20230420T190000
DTEND;TZID=UTC:20230420T210000
DTSTAMP:20260421T210939
CREATED:20230329T122929Z
LAST-MODIFIED:20230329T122929Z
UID:1782-1682017200-1682024400@scottbennettcomedy.co.uk
SUMMARY:Leicester - Whittlebury
DESCRIPTION:
URL:https://scottbennettcomedy.co.uk/event/leicester-whittlebury-2/
ATTACH;FMTTYPE=image/jpeg:https://scottbennettcomedy.co.uk/wp-content/uploads/2022/03/AOH2A3102-c-Andy-Hollingworth-Archive-scaled.jpg
END:VEVENT
BEGIN:VEVENT
DTSTART;TZID=UTC:20230419T190000
DTEND;TZID=UTC:20230419T210000
DTSTAMP:20260421T210939
CREATED:20230329T122517Z
LAST-MODIFIED:20230329T122517Z
UID:1775-1681930800-1681938000@scottbennettcomedy.co.uk
SUMMARY:Southwell
DESCRIPTION:
URL:https://scottbennettcomedy.co.uk/event/southwell/
ATTACH;FMTTYPE=image/jpeg:https://scottbennettcomedy.co.uk/wp-content/uploads/2022/03/AOH2A3102-c-Andy-Hollingworth-Archive-scaled.jpg
END:VEVENT
BEGIN:VEVENT
DTSTART;TZID=UTC:20230416T190000
DTEND;TZID=UTC:20230416T210000
DTSTAMP:20260421T210939
CREATED:20230329T122417Z
LAST-MODIFIED:20230329T122417Z
UID:1773-1681671600-1681678800@scottbennettcomedy.co.uk
SUMMARY:Hinckley
DESCRIPTION:
URL:https://scottbennettcomedy.co.uk/event/hinckley/
ATTACH;FMTTYPE=image/jpeg:https://scottbennettcomedy.co.uk/wp-content/uploads/2022/03/AOH2A3102-c-Andy-Hollingworth-Archive-scaled.jpg
END:VEVENT
BEGIN:VEVENT
DTSTART;TZID=UTC:20230414T210000
DTEND;TZID=UTC:20230414T220000
DTSTAMP:20260421T210939
CREATED:20230329T122333Z
LAST-MODIFIED:20230329T122333Z
UID:1771-1681506000-1681509600@scottbennettcomedy.co.uk
SUMMARY:Stockport - Outside the Box
DESCRIPTION:
URL:https://scottbennettcomedy.co.uk/event/stockport-outside-the-box/
ATTACH;FMTTYPE=image/jpeg:https://scottbennettcomedy.co.uk/wp-content/uploads/2022/03/AOH2A3102-c-Andy-Hollingworth-Archive-scaled.jpg
END:VEVENT
BEGIN:VEVENT
DTSTART;TZID=UTC:20230414T190000
DTEND;TZID=UTC:20230414T210000
DTSTAMP:20260421T210939
CREATED:20230329T122254Z
LAST-MODIFIED:20230329T122254Z
UID:1769-1681498800-1681506000@scottbennettcomedy.co.uk
SUMMARY:Macclesfield
DESCRIPTION:
URL:https://scottbennettcomedy.co.uk/event/macclesfield/
ATTACH;FMTTYPE=image/jpeg:https://scottbennettcomedy.co.uk/wp-content/uploads/2022/03/AOH2A3102-c-Andy-Hollingworth-Archive-scaled.jpg
END:VEVENT
BEGIN:VEVENT
DTSTART;TZID=UTC:20230413T190000
DTEND;TZID=UTC:20230413T210000
DTSTAMP:20260421T210939
CREATED:20230329T122221Z
LAST-MODIFIED:20230329T122221Z
UID:1767-1681412400-1681419600@scottbennettcomedy.co.uk
SUMMARY:Abbingdon
DESCRIPTION:
URL:https://scottbennettcomedy.co.uk/event/abbingdon/
ATTACH;FMTTYPE=image/jpeg:https://scottbennettcomedy.co.uk/wp-content/uploads/2022/03/AOH2A3102-c-Andy-Hollingworth-Archive-scaled.jpg
END:VEVENT
BEGIN:VEVENT
DTSTART;TZID=UTC:20230412T190000
DTEND;TZID=UTC:20230412T210000
DTSTAMP:20260421T210939
CREATED:20230329T122145Z
LAST-MODIFIED:20230329T122145Z
UID:1765-1681326000-1681333200@scottbennettcomedy.co.uk
SUMMARY:Ayelstone - The Black Horse
DESCRIPTION:
URL:https://scottbennettcomedy.co.uk/event/ayelstone-the-black-horse-2/
ATTACH;FMTTYPE=image/jpeg:https://scottbennettcomedy.co.uk/wp-content/uploads/2022/03/AOH2A3102-c-Andy-Hollingworth-Archive-scaled.jpg
END:VEVENT
BEGIN:VEVENT
DTSTART;TZID=UTC:20230411T190000
DTEND;TZID=UTC:20230411T210000
DTSTAMP:20260421T210939
CREATED:20230329T122122Z
LAST-MODIFIED:20230329T122122Z
UID:1763-1681239600-1681246800@scottbennettcomedy.co.uk
SUMMARY:Ayelstone - The Black Horse
DESCRIPTION:
URL:https://scottbennettcomedy.co.uk/event/ayelstone-the-black-horse/
ATTACH;FMTTYPE=image/jpeg:https://scottbennettcomedy.co.uk/wp-content/uploads/2022/03/AOH2A3102-c-Andy-Hollingworth-Archive-scaled.jpg
END:VEVENT
BEGIN:VEVENT
DTSTART;TZID=UTC:20230409T190000
DTEND;TZID=UTC:20230409T210000
DTSTAMP:20260421T210939
CREATED:20230329T122009Z
LAST-MODIFIED:20230329T122009Z
UID:1761-1681066800-1681074000@scottbennettcomedy.co.uk
SUMMARY:Bury St Edmunds
DESCRIPTION:
URL:https://scottbennettcomedy.co.uk/event/bury-st-edmunds/
ATTACH;FMTTYPE=image/jpeg:https://scottbennettcomedy.co.uk/wp-content/uploads/2022/03/AOH2A3102-c-Andy-Hollingworth-Archive-scaled.jpg
END:VEVENT
BEGIN:VEVENT
DTSTART;TZID=UTC:20230408T190000
DTEND;TZID=UTC:20230408T210000
DTSTAMP:20260421T210939
CREATED:20230329T121930Z
LAST-MODIFIED:20230329T121930Z
UID:1759-1680980400-1680987600@scottbennettcomedy.co.uk
SUMMARY:Leeds - HiFi
DESCRIPTION:
URL:https://scottbennettcomedy.co.uk/event/leeds-hifi/
ATTACH;FMTTYPE=image/jpeg:https://scottbennettcomedy.co.uk/wp-content/uploads/2022/03/AOH2A3102-c-Andy-Hollingworth-Archive-scaled.jpg
END:VEVENT
BEGIN:VEVENT
DTSTART;TZID=UTC:20230407T230000
DTEND;TZID=UTC:20230407T233000
DTSTAMP:20260421T210939
CREATED:20230329T121849Z
LAST-MODIFIED:20230329T121849Z
UID:1757-1680908400-1680910200@scottbennettcomedy.co.uk
SUMMARY:Morley
DESCRIPTION:
URL:https://scottbennettcomedy.co.uk/event/morley/
ATTACH;FMTTYPE=image/jpeg:https://scottbennettcomedy.co.uk/wp-content/uploads/2022/03/AOH2A3102-c-Andy-Hollingworth-Archive-scaled.jpg
END:VEVENT
BEGIN:VEVENT
DTSTART;TZID=UTC:20230407T190000
DTEND;TZID=UTC:20230407T230000
DTSTAMP:20260421T210939
CREATED:20230329T121813Z
LAST-MODIFIED:20230329T121813Z
UID:1755-1680894000-1680908400@scottbennettcomedy.co.uk
SUMMARY:Leeds - Original Oak
DESCRIPTION:
URL:https://scottbennettcomedy.co.uk/event/leeds-original-oak/
ATTACH;FMTTYPE=image/jpeg:https://scottbennettcomedy.co.uk/wp-content/uploads/2022/03/AOH2A3102-c-Andy-Hollingworth-Archive-scaled.jpg
END:VEVENT
BEGIN:VEVENT
DTSTART;TZID=UTC:20230406T190000
DTEND;TZID=UTC:20230406T230000
DTSTAMP:20260421T210939
CREATED:20230329T121716Z
LAST-MODIFIED:20230402T203458Z
UID:1753-1680807600-1680822000@scottbennettcomedy.co.uk
SUMMARY:Skipton
DESCRIPTION:
URL:https://scottbennettcomedy.co.uk/event/skipton/
ATTACH;FMTTYPE=image/jpeg:https://scottbennettcomedy.co.uk/wp-content/uploads/2022/03/AOH2A3102-c-Andy-Hollingworth-Archive-scaled.jpg
END:VEVENT
BEGIN:VEVENT
DTSTART;TZID=UTC:20230405T190000
DTEND;TZID=UTC:20230405T230000
DTSTAMP:20260421T210939
CREATED:20230329T121641Z
LAST-MODIFIED:20230402T202825Z
UID:1751-1680721200-1680735600@scottbennettcomedy.co.uk
SUMMARY:Birmingham
DESCRIPTION:
URL:https://scottbennettcomedy.co.uk/event/birmingham/
ATTACH;FMTTYPE=image/jpeg:https://scottbennettcomedy.co.uk/wp-content/uploads/2022/03/AOH2A3102-c-Andy-Hollingworth-Archive-scaled.jpg
END:VEVENT
BEGIN:VEVENT
DTSTART;TZID=UTC:20230404T190000
DTEND;TZID=UTC:20230404T230000
DTSTAMP:20260421T210939
CREATED:20230329T121557Z
LAST-MODIFIED:20230402T202034Z
UID:1749-1680634800-1680649200@scottbennettcomedy.co.uk
SUMMARY:Nottingham\, Wollaton
DESCRIPTION:
URL:https://scottbennettcomedy.co.uk/event/nottingham-wollaton/
ATTACH;FMTTYPE=image/jpeg:https://scottbennettcomedy.co.uk/wp-content/uploads/2022/03/AOH2A3102-c-Andy-Hollingworth-Archive-scaled.jpg
END:VEVENT
BEGIN:VEVENT
DTSTART;TZID=UTC:20230403T190000
DTEND;TZID=UTC:20230403T230000
DTSTAMP:20260421T210939
CREATED:20230329T121516Z
LAST-MODIFIED:20230402T201732Z
UID:1747-1680548400-1680562800@scottbennettcomedy.co.uk
SUMMARY:London - Comedy Store
DESCRIPTION:
URL:https://scottbennettcomedy.co.uk/event/london-comedy-store/
ATTACH;FMTTYPE=image/jpeg:https://scottbennettcomedy.co.uk/wp-content/uploads/2022/03/AOH2A3102-c-Andy-Hollingworth-Archive-scaled.jpg
END:VEVENT
BEGIN:VEVENT
DTSTART;TZID=UTC:20230401T220000
DTEND;TZID=UTC:20230401T230000
DTSTAMP:20260421T210939
CREATED:20230329T121419Z
LAST-MODIFIED:20230329T121419Z
UID:1745-1680386400-1680390000@scottbennettcomedy.co.uk
SUMMARY:Ilkley\, Yorkshire
DESCRIPTION:
URL:https://scottbennettcomedy.co.uk/event/ilkley-yorkshire/
ATTACH;FMTTYPE=image/jpeg:https://scottbennettcomedy.co.uk/wp-content/uploads/2022/03/AOH2A3102-c-Andy-Hollingworth-Archive-scaled.jpg
END:VEVENT
BEGIN:VEVENT
DTSTART;TZID=UTC:20230401T210000
DTEND;TZID=UTC:20230401T220000
DTSTAMP:20260421T210939
CREATED:20230329T121342Z
LAST-MODIFIED:20230329T121342Z
UID:1743-1680382800-1680386400@scottbennettcomedy.co.uk
SUMMARY:Halifax
DESCRIPTION:
URL:https://scottbennettcomedy.co.uk/event/halifax/
ATTACH;FMTTYPE=image/jpeg:https://scottbennettcomedy.co.uk/wp-content/uploads/2022/03/AOH2A3102-c-Andy-Hollingworth-Archive-scaled.jpg
END:VEVENT
BEGIN:VEVENT
DTSTART;TZID=UTC:20230331T210000
DTEND;TZID=UTC:20230331T220000
DTSTAMP:20260421T210939
CREATED:20230329T121234Z
LAST-MODIFIED:20230329T121234Z
UID:1741-1680296400-1680300000@scottbennettcomedy.co.uk
SUMMARY:Botley
DESCRIPTION:
URL:https://scottbennettcomedy.co.uk/event/botley/
ATTACH;FMTTYPE=image/jpeg:https://scottbennettcomedy.co.uk/wp-content/uploads/2022/03/AOH2A3102-c-Andy-Hollingworth-Archive-scaled.jpg
END:VEVENT
BEGIN:VEVENT
DTSTART;TZID=UTC:20230331T190000
DTEND;TZID=UTC:20230331T210000
DTSTAMP:20260421T210939
CREATED:20230329T121143Z
LAST-MODIFIED:20230329T121143Z
UID:1738-1680289200-1680296400@scottbennettcomedy.co.uk
SUMMARY:Portsmouth
DESCRIPTION:
URL:https://scottbennettcomedy.co.uk/event/portsmouth/
ATTACH;FMTTYPE=image/jpeg:https://scottbennettcomedy.co.uk/wp-content/uploads/2022/03/AOH2A3102-c-Andy-Hollingworth-Archive-scaled.jpg
END:VEVENT
BEGIN:VEVENT
DTSTART;TZID=UTC:20230330T190000
DTEND;TZID=UTC:20230330T220000
DTSTAMP:20260421T210939
CREATED:20230329T120341Z
LAST-MODIFIED:20230329T120953Z
UID:1731-1680202800-1680213600@scottbennettcomedy.co.uk
SUMMARY:Leeds - City Varieties
DESCRIPTION:
URL:https://scottbennettcomedy.co.uk/event/last-laugh-comedy-club-sheffield-2/
ATTACH;FMTTYPE=image/jpeg:https://scottbennettcomedy.co.uk/wp-content/uploads/2022/03/AOH2A3102-c-Andy-Hollingworth-Archive-scaled.jpg
END:VEVENT
BEGIN:VEVENT
DTSTART;TZID=UTC:20230304T210000
DTEND;TZID=UTC:20230304T220000
DTSTAMP:20260421T210939
CREATED:20230219T135703Z
LAST-MODIFIED:20230219T135703Z
UID:1700-1677963600-1677967200@scottbennettcomedy.co.uk
SUMMARY:Last Laugh Comedy Club - Sheffield
DESCRIPTION:
URL:https://scottbennettcomedy.co.uk/event/last-laugh-comedy-club-sheffield/
ATTACH;FMTTYPE=image/jpeg:https://scottbennettcomedy.co.uk/wp-content/uploads/2022/03/AOH2A3102-c-Andy-Hollingworth-Archive-scaled.jpg
END:VEVENT
BEGIN:VEVENT
DTSTART;TZID=UTC:20230304T190000
DTEND;TZID=UTC:20230304T203000
DTSTAMP:20260421T210939
CREATED:20230219T135853Z
LAST-MODIFIED:20230219T135853Z
UID:1702-1677956400-1677961800@scottbennettcomedy.co.uk
SUMMARY:Twin Oaks Chesterfield
DESCRIPTION:
URL:https://scottbennettcomedy.co.uk/event/twin-oaks-chesterfield/
LOCATION:Twin Oaks Hotel
ATTACH;FMTTYPE=image/jpeg:https://scottbennettcomedy.co.uk/wp-content/uploads/2022/03/AOH2A3102-c-Andy-Hollingworth-Archive-scaled.jpg
END:VEVENT
BEGIN:VEVENT
DTSTART;TZID=UTC:20230303T200000
DTEND;TZID=UTC:20230303T220000
DTSTAMP:20260421T210939
CREATED:20230219T134954Z
LAST-MODIFIED:20230219T135037Z
UID:1694-1677873600-1677880800@scottbennettcomedy.co.uk
SUMMARY:Cast Comedy Club - Doncaster Cast
DESCRIPTION:
URL:https://scottbennettcomedy.co.uk/event/cast-comedy-club-doncaster-cast/
LOCATION:Cast Theatre
ATTACH;FMTTYPE=image/jpeg:https://scottbennettcomedy.co.uk/wp-content/uploads/2022/03/AOH2A3102-c-Andy-Hollingworth-Archive-scaled.jpg
END:VEVENT
BEGIN:VEVENT
DTSTART;TZID=UTC:20230303T200000
DTEND;TZID=UTC:20230303T220000
DTSTAMP:20260421T210939
CREATED:20230219T134721Z
LAST-MODIFIED:20230219T134721Z
UID:1690-1677873600-1677880800@scottbennettcomedy.co.uk
SUMMARY:Last Laugh Comedy Club - Penistone
DESCRIPTION:
URL:https://scottbennettcomedy.co.uk/event/last-laugh-comedy-club-penistone/
LOCATION:The Paramount
ATTACH;FMTTYPE=image/jpeg:https://scottbennettcomedy.co.uk/wp-content/uploads/2022/03/AOH2A3102-c-Andy-Hollingworth-Archive-scaled.jpg
END:VEVENT
BEGIN:VEVENT
DTSTART;TZID=UTC:20230302T200000
DTEND;TZID=UTC:20230302T220000
DTSTAMP:20260421T210939
CREATED:20230219T134127Z
LAST-MODIFIED:20230219T134317Z
UID:1687-1677787200-1677794400@scottbennettcomedy.co.uk
SUMMARY:Comedy Crate - Stanwick
DESCRIPTION:
URL:https://scottbennettcomedy.co.uk/event/comedy-crate-stanwick/
LOCATION:The Duke of Wellington
ATTACH;FMTTYPE=image/jpeg:https://scottbennettcomedy.co.uk/wp-content/uploads/2022/03/AOH2A3102-c-Andy-Hollingworth-Archive-scaled.jpg
END:VEVENT
BEGIN:VEVENT
DTSTART;TZID=UTC:20230302T200000
DTEND;TZID=UTC:20230302T220000
DTSTAMP:20260421T210939
CREATED:20230219T133833Z
LAST-MODIFIED:20230219T133922Z
UID:1684-1677787200-1677794400@scottbennettcomedy.co.uk
SUMMARY:Comedy Crate - Northampton Picturedrome
DESCRIPTION:
URL:https://scottbennettcomedy.co.uk/event/comedy-crate-northampton-picturedrome/
ATTACH;FMTTYPE=image/jpeg:https://scottbennettcomedy.co.uk/wp-content/uploads/2022/03/AOH2A3102-c-Andy-Hollingworth-Archive-scaled.jpg
END:VEVENT
BEGIN:VEVENT
DTSTART;TZID=UTC:20230225T193000
DTEND;TZID=UTC:20230225T220000
DTSTAMP:20260421T210939
CREATED:20230201T003345Z
LAST-MODIFIED:20230201T003345Z
UID:1565-1677353400-1677362400@scottbennettcomedy.co.uk
SUMMARY:Nottingham - The Metronome - Great Scott Tour
DESCRIPTION:
URL:https://scottbennettcomedy.co.uk/event/nottingham-the-metronome-great-scott-tour/
LOCATION:The Metronome
ATTACH;FMTTYPE=image/jpeg:https://scottbennettcomedy.co.uk/wp-content/uploads/2022/03/GREAT-SCOTT_1920x1080-imageonly.jpg
END:VEVENT
END:VCALENDAR