BEGIN:VCALENDAR
VERSION:2.0
PRODID:-//SCOTT BENNETT - ECPv6.15.11//NONSGML v1.0//EN
CALSCALE:GREGORIAN
METHOD:PUBLISH
X-ORIGINAL-URL:https://scottbennettcomedy.co.uk
X-WR-CALDESC:Events for SCOTT BENNETT
REFRESH-INTERVAL;VALUE=DURATION:PT1H
X-Robots-Tag:noindex
X-PUBLISHED-TTL:PT1H
BEGIN:VTIMEZONE
TZID:UTC
BEGIN:STANDARD
TZOFFSETFROM:+0000
TZOFFSETTO:+0000
TZNAME:UTC
DTSTART:20220101T000000
END:STANDARD
END:VTIMEZONE
BEGIN:VEVENT
DTSTART;TZID=UTC:20230513T210000
DTEND;TZID=UTC:20230513T220000
DTSTAMP:20260421T173217
CREATED:20230329T125149Z
LAST-MODIFIED:20230404T195352Z
UID:1833-1684011600-1684015200@scottbennettcomedy.co.uk
SUMMARY:Lincoln
DESCRIPTION:
URL:https://scottbennettcomedy.co.uk/event/lincoln/
ATTACH;FMTTYPE=image/jpeg:https://scottbennettcomedy.co.uk/wp-content/uploads/2022/03/AOH2A3102-c-Andy-Hollingworth-Archive-scaled.jpg
END:VEVENT
BEGIN:VEVENT
DTSTART;TZID=UTC:20230513T190000
DTEND;TZID=UTC:20230513T210000
DTSTAMP:20260421T173217
CREATED:20230329T125128Z
LAST-MODIFIED:20230404T195512Z
UID:1831-1684004400-1684011600@scottbennettcomedy.co.uk
SUMMARY:Grimsby
DESCRIPTION:
URL:https://scottbennettcomedy.co.uk/event/grimsby/
ATTACH;FMTTYPE=image/jpeg:https://scottbennettcomedy.co.uk/wp-content/uploads/2022/03/AOH2A3102-c-Andy-Hollingworth-Archive-scaled.jpg
END:VEVENT
BEGIN:VEVENT
DTSTART;TZID=UTC:20230512T210000
DTEND;TZID=UTC:20230512T220000
DTSTAMP:20260421T173217
CREATED:20230329T125046Z
LAST-MODIFIED:20230404T200836Z
UID:1829-1683925200-1683928800@scottbennettcomedy.co.uk
SUMMARY:Cambridge
DESCRIPTION:
URL:https://scottbennettcomedy.co.uk/event/cambridge-hilarity-bites/
ATTACH;FMTTYPE=image/jpeg:https://scottbennettcomedy.co.uk/wp-content/uploads/2022/03/AOH2A3102-c-Andy-Hollingworth-Archive-scaled.jpg
END:VEVENT
BEGIN:VEVENT
DTSTART;TZID=UTC:20230511T210000
DTEND;TZID=UTC:20230511T220000
DTSTAMP:20260421T173217
CREATED:20230329T124848Z
LAST-MODIFIED:20230404T201036Z
UID:1827-1683838800-1683842400@scottbennettcomedy.co.uk
SUMMARY:Northampton - Comedy Crate
DESCRIPTION:
URL:https://scottbennettcomedy.co.uk/event/northampton-comedy-crate/
ATTACH;FMTTYPE=image/jpeg:https://scottbennettcomedy.co.uk/wp-content/uploads/2022/03/AOH2A3102-c-Andy-Hollingworth-Archive-scaled.jpg
END:VEVENT
BEGIN:VEVENT
DTSTART;TZID=UTC:20230510T210000
DTEND;TZID=UTC:20230510T220000
DTSTAMP:20260421T173217
CREATED:20230329T124752Z
LAST-MODIFIED:20230404T201258Z
UID:1825-1683752400-1683756000@scottbennettcomedy.co.uk
SUMMARY:Nottingham - Canalhouse - Work In Progress
DESCRIPTION:
URL:https://scottbennettcomedy.co.uk/event/nottingham-canalhouse-work-in-progress/
ATTACH;FMTTYPE=image/jpeg:https://scottbennettcomedy.co.uk/wp-content/uploads/2022/03/AOH2A3102-c-Andy-Hollingworth-Archive-scaled.jpg
END:VEVENT
BEGIN:VEVENT
DTSTART;TZID=UTC:20230509T210000
DTEND;TZID=UTC:20230509T220000
DTSTAMP:20260421T173217
CREATED:20230329T124705Z
LAST-MODIFIED:20230404T203348Z
UID:1823-1683666000-1683669600@scottbennettcomedy.co.uk
SUMMARY:Leamington - New Stuff
DESCRIPTION:
URL:https://scottbennettcomedy.co.uk/event/lemington-new-stuff/
ATTACH;FMTTYPE=image/jpeg:https://scottbennettcomedy.co.uk/wp-content/uploads/2022/03/AOH2A3102-c-Andy-Hollingworth-Archive-scaled.jpg
END:VEVENT
BEGIN:VEVENT
DTSTART;TZID=UTC:20230507T210000
DTEND;TZID=UTC:20230507T220000
DTSTAMP:20260421T173217
CREATED:20230329T124618Z
LAST-MODIFIED:20230404T203602Z
UID:1821-1683493200-1683496800@scottbennettcomedy.co.uk
SUMMARY:Manchester - Frog And Bucket
DESCRIPTION:
URL:https://scottbennettcomedy.co.uk/event/manchester-frog-and-bucket/
ATTACH;FMTTYPE=image/jpeg:https://scottbennettcomedy.co.uk/wp-content/uploads/2022/03/AOH2A3102-c-Andy-Hollingworth-Archive-scaled.jpg
END:VEVENT
BEGIN:VEVENT
DTSTART;TZID=UTC:20230507T190000
DTEND;TZID=UTC:20230507T210000
DTSTAMP:20260421T173217
CREATED:20230329T124545Z
LAST-MODIFIED:20230404T203921Z
UID:1819-1683486000-1683493200@scottbennettcomedy.co.uk
SUMMARY:Manchester - Comedy Store
DESCRIPTION:
URL:https://scottbennettcomedy.co.uk/event/manchester-comedy-store/
ATTACH;FMTTYPE=image/jpeg:https://scottbennettcomedy.co.uk/wp-content/uploads/2022/03/AOH2A3102-c-Andy-Hollingworth-Archive-scaled.jpg
END:VEVENT
BEGIN:VEVENT
DTSTART;TZID=UTC:20230506T190000
DTEND;TZID=UTC:20230506T210000
DTSTAMP:20260421T173217
CREATED:20230329T124504Z
LAST-MODIFIED:20230329T124504Z
UID:1817-1683399600-1683406800@scottbennettcomedy.co.uk
SUMMARY:Oxfordshire
DESCRIPTION:
URL:https://scottbennettcomedy.co.uk/event/oxfordshire/
ATTACH;FMTTYPE=image/jpeg:https://scottbennettcomedy.co.uk/wp-content/uploads/2022/03/AOH2A3102-c-Andy-Hollingworth-Archive-scaled.jpg
END:VEVENT
BEGIN:VEVENT
DTSTART;TZID=UTC:20230506T120000
DTEND;TZID=UTC:20230506T190000
DTSTAMP:20260421T173217
CREATED:20230329T124432Z
LAST-MODIFIED:20230329T124432Z
UID:1815-1683374400-1683399600@scottbennettcomedy.co.uk
SUMMARY:Cheshire - Biker Rally
DESCRIPTION:
URL:https://scottbennettcomedy.co.uk/event/cheshire-biker-rally/
ATTACH;FMTTYPE=image/jpeg:https://scottbennettcomedy.co.uk/wp-content/uploads/2022/03/AOH2A3102-c-Andy-Hollingworth-Archive-scaled.jpg
END:VEVENT
BEGIN:VEVENT
DTSTART;TZID=UTC:20230505T210000
DTEND;TZID=UTC:20230505T220000
DTSTAMP:20260421T173217
CREATED:20230329T124254Z
LAST-MODIFIED:20230329T124254Z
UID:1812-1683320400-1683324000@scottbennettcomedy.co.uk
SUMMARY:Chipperfield
DESCRIPTION:
URL:https://scottbennettcomedy.co.uk/event/chipperfield/
ATTACH;FMTTYPE=image/jpeg:https://scottbennettcomedy.co.uk/wp-content/uploads/2022/03/AOH2A3102-c-Andy-Hollingworth-Archive-scaled.jpg
END:VEVENT
BEGIN:VEVENT
DTSTART;TZID=UTC:20230505T190000
DTEND;TZID=UTC:20230505T210000
DTSTAMP:20260421T173217
CREATED:20230329T124156Z
LAST-MODIFIED:20230329T124156Z
UID:1810-1683313200-1683320400@scottbennettcomedy.co.uk
SUMMARY:Sandy
DESCRIPTION:
URL:https://scottbennettcomedy.co.uk/event/sandy/
ATTACH;FMTTYPE=image/jpeg:https://scottbennettcomedy.co.uk/wp-content/uploads/2022/03/AOH2A3102-c-Andy-Hollingworth-Archive-scaled.jpg
END:VEVENT
BEGIN:VEVENT
DTSTART;TZID=UTC:20230504T190000
DTEND;TZID=UTC:20230504T210000
DTSTAMP:20260421T173217
CREATED:20230329T124009Z
LAST-MODIFIED:20230329T124009Z
UID:1808-1683226800-1683234000@scottbennettcomedy.co.uk
SUMMARY:York
DESCRIPTION:
URL:https://scottbennettcomedy.co.uk/event/york/
ATTACH;FMTTYPE=image/jpeg:https://scottbennettcomedy.co.uk/wp-content/uploads/2022/03/AOH2A3102-c-Andy-Hollingworth-Archive-scaled.jpg
END:VEVENT
BEGIN:VEVENT
DTSTART;TZID=UTC:20230503T190000
DTEND;TZID=UTC:20230503T210000
DTSTAMP:20260421T173217
CREATED:20230329T123942Z
LAST-MODIFIED:20230329T123942Z
UID:1806-1683140400-1683147600@scottbennettcomedy.co.uk
SUMMARY:Anstey
DESCRIPTION:
URL:https://scottbennettcomedy.co.uk/event/anstey/
ATTACH;FMTTYPE=image/jpeg:https://scottbennettcomedy.co.uk/wp-content/uploads/2022/03/AOH2A3102-c-Andy-Hollingworth-Archive-scaled.jpg
END:VEVENT
BEGIN:VEVENT
DTSTART;TZID=UTC:20230430T190000
DTEND;TZID=UTC:20230430T210000
DTSTAMP:20260421T173217
CREATED:20230329T123858Z
LAST-MODIFIED:20230329T123858Z
UID:1804-1682881200-1682888400@scottbennettcomedy.co.uk
SUMMARY:County Durham - Consett Comedy Festival
DESCRIPTION:
URL:https://scottbennettcomedy.co.uk/event/county-durham-consett-comedy-festival/
ATTACH;FMTTYPE=image/jpeg:https://scottbennettcomedy.co.uk/wp-content/uploads/2022/03/AOH2A3102-c-Andy-Hollingworth-Archive-scaled.jpg
END:VEVENT
BEGIN:VEVENT
DTSTART;TZID=UTC:20230430T120000
DTEND;TZID=UTC:20230430T170000
DTSTAMP:20260421T173217
CREATED:20230329T123749Z
LAST-MODIFIED:20230329T123749Z
UID:1802-1682856000-1682874000@scottbennettcomedy.co.uk
SUMMARY:Mach Fest - Work in Progress
DESCRIPTION:
URL:https://scottbennettcomedy.co.uk/event/mach-fest-work-in-progress/
ATTACH;FMTTYPE=image/jpeg:https://scottbennettcomedy.co.uk/wp-content/uploads/2022/03/AOH2A3102-c-Andy-Hollingworth-Archive-scaled.jpg
END:VEVENT
BEGIN:VEVENT
DTSTART;TZID=UTC:20230429T190000
DTEND;TZID=UTC:20230429T210000
DTSTAMP:20260421T173217
CREATED:20230329T123638Z
LAST-MODIFIED:20230329T123638Z
UID:1800-1682794800-1682802000@scottbennettcomedy.co.uk
SUMMARY:Amersham - Potters Arms Festival
DESCRIPTION:
URL:https://scottbennettcomedy.co.uk/event/amersham-potters-arms-festival/
ATTACH;FMTTYPE=image/jpeg:https://scottbennettcomedy.co.uk/wp-content/uploads/2022/03/AOH2A3102-c-Andy-Hollingworth-Archive-scaled.jpg
END:VEVENT
BEGIN:VEVENT
DTSTART;TZID=UTC:20230428T190000
DTEND;TZID=UTC:20230428T210000
DTSTAMP:20260421T173217
CREATED:20230329T123549Z
LAST-MODIFIED:20230329T123549Z
UID:1798-1682708400-1682715600@scottbennettcomedy.co.uk
SUMMARY:Bolton
DESCRIPTION:
URL:https://scottbennettcomedy.co.uk/event/bolton/
ATTACH;FMTTYPE=image/jpeg:https://scottbennettcomedy.co.uk/wp-content/uploads/2022/03/AOH2A3102-c-Andy-Hollingworth-Archive-scaled.jpg
END:VEVENT
BEGIN:VEVENT
DTSTART;TZID=UTC:20230427T190000
DTEND;TZID=UTC:20230427T210000
DTSTAMP:20260421T173217
CREATED:20230329T123520Z
LAST-MODIFIED:20230329T123520Z
UID:1796-1682622000-1682629200@scottbennettcomedy.co.uk
SUMMARY:Brackley
DESCRIPTION:
URL:https://scottbennettcomedy.co.uk/event/brackley/
ATTACH;FMTTYPE=image/jpeg:https://scottbennettcomedy.co.uk/wp-content/uploads/2022/03/AOH2A3102-c-Andy-Hollingworth-Archive-scaled.jpg
END:VEVENT
BEGIN:VEVENT
DTSTART;TZID=UTC:20230426T190000
DTEND;TZID=UTC:20230426T210000
DTSTAMP:20260421T173217
CREATED:20230329T123415Z
LAST-MODIFIED:20230329T123415Z
UID:1794-1682535600-1682542800@scottbennettcomedy.co.uk
SUMMARY:Newark - New Stuff
DESCRIPTION:
URL:https://scottbennettcomedy.co.uk/event/newark-new-stuff/
ATTACH;FMTTYPE=image/jpeg:https://scottbennettcomedy.co.uk/wp-content/uploads/2022/03/AOH2A3102-c-Andy-Hollingworth-Archive-scaled.jpg
END:VEVENT
BEGIN:VEVENT
DTSTART;TZID=UTC:20230425T190000
DTEND;TZID=UTC:20230425T210000
DTSTAMP:20260421T173217
CREATED:20230329T123338Z
LAST-MODIFIED:20230329T123338Z
UID:1792-1682449200-1682456400@scottbennettcomedy.co.uk
SUMMARY:Southampton - Mango
DESCRIPTION:
URL:https://scottbennettcomedy.co.uk/event/southampton-mango/
ATTACH;FMTTYPE=image/jpeg:https://scottbennettcomedy.co.uk/wp-content/uploads/2022/03/AOH2A3102-c-Andy-Hollingworth-Archive-scaled.jpg
END:VEVENT
BEGIN:VEVENT
DTSTART;TZID=UTC:20230424T190000
DTEND;TZID=UTC:20230424T210000
DTSTAMP:20260421T173217
CREATED:20230329T123300Z
LAST-MODIFIED:20230329T123300Z
UID:1790-1682362800-1682370000@scottbennettcomedy.co.uk
SUMMARY:Nottingham - Edwalton - New Stuff
DESCRIPTION:
URL:https://scottbennettcomedy.co.uk/event/nottingham-edwalton-new-stuff/
ATTACH;FMTTYPE=image/jpeg:https://scottbennettcomedy.co.uk/wp-content/uploads/2022/03/AOH2A3102-c-Andy-Hollingworth-Archive-scaled.jpg
END:VEVENT
BEGIN:VEVENT
DTSTART;TZID=UTC:20230423T190000
DTEND;TZID=UTC:20230423T210000
DTSTAMP:20260421T173217
CREATED:20230329T123219Z
LAST-MODIFIED:20230329T123219Z
UID:1788-1682276400-1682283600@scottbennettcomedy.co.uk
SUMMARY:Yarm - Ripping Yarms Comedy Club
DESCRIPTION:
URL:https://scottbennettcomedy.co.uk/event/yarm-ripping-yarms-comedy-club/
ATTACH;FMTTYPE=image/jpeg:https://scottbennettcomedy.co.uk/wp-content/uploads/2022/03/AOH2A3102-c-Andy-Hollingworth-Archive-scaled.jpg
END:VEVENT
BEGIN:VEVENT
DTSTART;TZID=UTC:20230422T210000
DTEND;TZID=UTC:20230422T220000
DTSTAMP:20260421T173217
CREATED:20230329T123010Z
LAST-MODIFIED:20230329T123034Z
UID:1784-1682197200-1682200800@scottbennettcomedy.co.uk
SUMMARY:Wakefield
DESCRIPTION:
URL:https://scottbennettcomedy.co.uk/event/wakefield/
ATTACH;FMTTYPE=image/jpeg:https://scottbennettcomedy.co.uk/wp-content/uploads/2022/03/AOH2A3102-c-Andy-Hollingworth-Archive-scaled.jpg
END:VEVENT
BEGIN:VEVENT
DTSTART;TZID=UTC:20230422T190000
DTEND;TZID=UTC:20230422T210000
DTSTAMP:20260421T173217
CREATED:20230329T123109Z
LAST-MODIFIED:20230329T123109Z
UID:1786-1682190000-1682197200@scottbennettcomedy.co.uk
SUMMARY:Leeds
DESCRIPTION:
URL:https://scottbennettcomedy.co.uk/event/leeds/
ATTACH;FMTTYPE=image/jpeg:https://scottbennettcomedy.co.uk/wp-content/uploads/2022/03/AOH2A3102-c-Andy-Hollingworth-Archive-scaled.jpg
END:VEVENT
BEGIN:VEVENT
DTSTART;TZID=UTC:20230421T190000
DTEND;TZID=UTC:20230421T210000
DTSTAMP:20260421T173217
CREATED:20230329T122653Z
LAST-MODIFIED:20230329T122653Z
UID:1779-1682103600-1682110800@scottbennettcomedy.co.uk
SUMMARY:Barnstaple
DESCRIPTION:
URL:https://scottbennettcomedy.co.uk/event/barnstaple/
ATTACH;FMTTYPE=image/jpeg:https://scottbennettcomedy.co.uk/wp-content/uploads/2022/03/AOH2A3102-c-Andy-Hollingworth-Archive-scaled.jpg
END:VEVENT
BEGIN:VEVENT
DTSTART;TZID=UTC:20230420T190000
DTEND;TZID=UTC:20230420T210000
DTSTAMP:20260421T173217
CREATED:20230329T122929Z
LAST-MODIFIED:20230329T122929Z
UID:1782-1682017200-1682024400@scottbennettcomedy.co.uk
SUMMARY:Leicester - Whittlebury
DESCRIPTION:
URL:https://scottbennettcomedy.co.uk/event/leicester-whittlebury-2/
ATTACH;FMTTYPE=image/jpeg:https://scottbennettcomedy.co.uk/wp-content/uploads/2022/03/AOH2A3102-c-Andy-Hollingworth-Archive-scaled.jpg
END:VEVENT
BEGIN:VEVENT
DTSTART;TZID=UTC:20230419T190000
DTEND;TZID=UTC:20230419T210000
DTSTAMP:20260421T173217
CREATED:20230329T122517Z
LAST-MODIFIED:20230329T122517Z
UID:1775-1681930800-1681938000@scottbennettcomedy.co.uk
SUMMARY:Southwell
DESCRIPTION:
URL:https://scottbennettcomedy.co.uk/event/southwell/
ATTACH;FMTTYPE=image/jpeg:https://scottbennettcomedy.co.uk/wp-content/uploads/2022/03/AOH2A3102-c-Andy-Hollingworth-Archive-scaled.jpg
END:VEVENT
BEGIN:VEVENT
DTSTART;TZID=UTC:20230416T190000
DTEND;TZID=UTC:20230416T210000
DTSTAMP:20260421T173217
CREATED:20230329T122417Z
LAST-MODIFIED:20230329T122417Z
UID:1773-1681671600-1681678800@scottbennettcomedy.co.uk
SUMMARY:Hinckley
DESCRIPTION:
URL:https://scottbennettcomedy.co.uk/event/hinckley/
ATTACH;FMTTYPE=image/jpeg:https://scottbennettcomedy.co.uk/wp-content/uploads/2022/03/AOH2A3102-c-Andy-Hollingworth-Archive-scaled.jpg
END:VEVENT
BEGIN:VEVENT
DTSTART;TZID=UTC:20230414T210000
DTEND;TZID=UTC:20230414T220000
DTSTAMP:20260421T173217
CREATED:20230329T122333Z
LAST-MODIFIED:20230329T122333Z
UID:1771-1681506000-1681509600@scottbennettcomedy.co.uk
SUMMARY:Stockport - Outside the Box
DESCRIPTION:
URL:https://scottbennettcomedy.co.uk/event/stockport-outside-the-box/
ATTACH;FMTTYPE=image/jpeg:https://scottbennettcomedy.co.uk/wp-content/uploads/2022/03/AOH2A3102-c-Andy-Hollingworth-Archive-scaled.jpg
END:VEVENT
END:VCALENDAR