BEGIN:VCALENDAR
VERSION:2.0
PRODID:-//SCOTT BENNETT - ECPv6.15.11//NONSGML v1.0//EN
CALSCALE:GREGORIAN
METHOD:PUBLISH
X-ORIGINAL-URL:https://scottbennettcomedy.co.uk
X-WR-CALDESC:Events for SCOTT BENNETT
REFRESH-INTERVAL;VALUE=DURATION:PT1H
X-Robots-Tag:noindex
X-PUBLISHED-TTL:PT1H
BEGIN:VTIMEZONE
TZID:UTC
BEGIN:STANDARD
TZOFFSETFROM:+0000
TZOFFSETTO:+0000
TZNAME:UTC
DTSTART:20220101T000000
END:STANDARD
END:VTIMEZONE
BEGIN:VEVENT
DTSTART;TZID=UTC:20231002T193000
DTEND;TZID=UTC:20231002T220000
DTSTAMP:20260421T141117
CREATED:20230824T094432Z
LAST-MODIFIED:20230824T094432Z
UID:2018-1696275000-1696284000@scottbennettcomedy.co.uk
SUMMARY:Southwell - Radio 4 Warm Up / Work in Progress
DESCRIPTION:
URL:https://scottbennettcomedy.co.uk/event/southwell-radio-4-warm-up-work-in-progress/
LOCATION:Southwell Funhouse Comedy
ATTACH;FMTTYPE=image/jpeg:https://scottbennettcomedy.co.uk/wp-content/uploads/2022/03/AOH2A3102-c-Andy-Hollingworth-Archive-scaled.jpg
END:VEVENT
BEGIN:VEVENT
DTSTART;TZID=UTC:20230927T193000
DTEND;TZID=UTC:20230927T220000
DTSTAMP:20260421T141117
CREATED:20230824T094301Z
LAST-MODIFIED:20230824T094301Z
UID:2015-1695843000-1695852000@scottbennettcomedy.co.uk
SUMMARY:London - Radio 4 Warm Up / Work in Progress
DESCRIPTION:
URL:https://scottbennettcomedy.co.uk/event/london-radio-4-warm-up-work-in-progress/
LOCATION:The Tommyfield
ATTACH;FMTTYPE=image/jpeg:https://scottbennettcomedy.co.uk/wp-content/uploads/2022/03/AOH2A3102-c-Andy-Hollingworth-Archive-scaled.jpg
END:VEVENT
BEGIN:VEVENT
DTSTART;TZID=UTC:20230926T193000
DTEND;TZID=UTC:20230926T220000
DTSTAMP:20260421T141117
CREATED:20230824T094100Z
LAST-MODIFIED:20230824T094100Z
UID:2012-1695756600-1695765600@scottbennettcomedy.co.uk
SUMMARY:Ayelstone - Radio 4 Warm Up / Work in Progress
DESCRIPTION:
URL:https://scottbennettcomedy.co.uk/event/ayelstone-radio-4-warm-up-work-in-progress/
LOCATION:The Black Horse
ATTACH;FMTTYPE=image/jpeg:https://scottbennettcomedy.co.uk/wp-content/uploads/2022/03/AOH2A3102-c-Andy-Hollingworth-Archive-scaled.jpg
END:VEVENT
BEGIN:VEVENT
DTSTART;TZID=UTC:20230920T193000
DTEND;TZID=UTC:20230920T220000
DTSTAMP:20260421T141117
CREATED:20230219T131521Z
LAST-MODIFIED:20230219T131521Z
UID:1667-1695238200-1695247200@scottbennettcomedy.co.uk
SUMMARY:Sheffield - The Leadmill - Great Scott Tour
DESCRIPTION:
URL:https://scottbennettcomedy.co.uk/event/sheffield-the-leadmill-great-scott-tour/
LOCATION:The Leadmill
ATTACH;FMTTYPE=image/jpeg:https://scottbennettcomedy.co.uk/wp-content/uploads/2022/03/GREAT-SCOTT_1920x1080-imageonly.jpg
END:VEVENT
BEGIN:VEVENT
DTSTART;TZID=UTC:20230913T193000
DTEND;TZID=UTC:20230913T220000
DTSTAMP:20260421T141117
CREATED:20230824T093925Z
LAST-MODIFIED:20230824T093925Z
UID:2009-1694633400-1694642400@scottbennettcomedy.co.uk
SUMMARY:Moseley - Radio 4 Warm Up / Work in Progress
DESCRIPTION:
URL:https://scottbennettcomedy.co.uk/event/moseley-radio-4-warm-up-work-in-progress/
LOCATION:Fat Penguin
ATTACH;FMTTYPE=image/jpeg:https://scottbennettcomedy.co.uk/wp-content/uploads/2022/03/AOH2A3102-c-Andy-Hollingworth-Archive-scaled.jpg
END:VEVENT
BEGIN:VEVENT
DTSTART;TZID=UTC:20230904T193000
DTEND;TZID=UTC:20230904T220000
DTSTAMP:20260421T141117
CREATED:20230824T093721Z
LAST-MODIFIED:20230824T093721Z
UID:2006-1693855800-1693864800@scottbennettcomedy.co.uk
SUMMARY:Derby - Radio 4 Warm Up / Work in Progress
DESCRIPTION:
URL:https://scottbennettcomedy.co.uk/event/derby-radio-4-warm-up-work-in-progress/
LOCATION:Blessington Carriage
ATTACH;FMTTYPE=image/jpeg:https://scottbennettcomedy.co.uk/wp-content/uploads/2022/03/AOH2A3102-c-Andy-Hollingworth-Archive-scaled.jpg
END:VEVENT
BEGIN:VEVENT
DTSTART;TZID=UTC:20230903T193000
DTEND;TZID=UTC:20230903T210000
DTSTAMP:20260421T141117
CREATED:20230824T093451Z
LAST-MODIFIED:20230824T093451Z
UID:2003-1693769400-1693774800@scottbennettcomedy.co.uk
SUMMARY:Leicester - Radio 4 Warm Up / Work in Progress
DESCRIPTION:
URL:https://scottbennettcomedy.co.uk/event/leicester-radio-4-warm-up-work-in-progress/
LOCATION:Big Difference Leicester
ATTACH;FMTTYPE=image/jpeg:https://scottbennettcomedy.co.uk/wp-content/uploads/2022/03/AOH2A3102-c-Andy-Hollingworth-Archive-scaled.jpg
END:VEVENT
BEGIN:VEVENT
DTSTART;TZID=UTC:20230611T193000
DTEND;TZID=UTC:20230611T220000
DTSTAMP:20260421T141117
CREATED:20230201T004744Z
LAST-MODIFIED:20230201T004744Z
UID:1580-1686511800-1686520800@scottbennettcomedy.co.uk
SUMMARY:Selby - Town Hall - Great Scott Tour
DESCRIPTION:
URL:https://scottbennettcomedy.co.uk/event/selby-town-hall-great-scott-tour/
LOCATION:Town Hall
ATTACH;FMTTYPE=image/jpeg:https://scottbennettcomedy.co.uk/wp-content/uploads/2022/03/GREAT-SCOTT_1920x1080-imageonly.jpg
END:VEVENT
BEGIN:VEVENT
DTSTART;TZID=UTC:20230530T210000
DTEND;TZID=UTC:20230530T220000
DTSTAMP:20260421T141117
CREATED:20230329T130157Z
LAST-MODIFIED:20230402T214957Z
UID:1859-1685480400-1685484000@scottbennettcomedy.co.uk
SUMMARY:Bristol - New Stuff
DESCRIPTION:
URL:https://scottbennettcomedy.co.uk/event/bristol-new-stuff/
ATTACH;FMTTYPE=image/jpeg:https://scottbennettcomedy.co.uk/wp-content/uploads/2022/03/AOH2A3102-c-Andy-Hollingworth-Archive-scaled.jpg
END:VEVENT
BEGIN:VEVENT
DTSTART;TZID=UTC:20230528T210000
DTEND;TZID=UTC:20230528T220000
DTSTAMP:20260421T141117
CREATED:20230329T130047Z
LAST-MODIFIED:20230402T215349Z
UID:1857-1685307600-1685311200@scottbennettcomedy.co.uk
SUMMARY:Bootle
DESCRIPTION:
URL:https://scottbennettcomedy.co.uk/event/bootle/
ATTACH;FMTTYPE=image/jpeg:https://scottbennettcomedy.co.uk/wp-content/uploads/2022/03/AOH2A3102-c-Andy-Hollingworth-Archive-scaled.jpg
END:VEVENT
BEGIN:VEVENT
DTSTART;TZID=UTC:20230527T210000
DTEND;TZID=UTC:20230527T220000
DTSTAMP:20260421T141117
CREATED:20230329T130017Z
LAST-MODIFIED:20230329T130017Z
UID:1855-1685221200-1685224800@scottbennettcomedy.co.uk
SUMMARY:Haywards Heath
DESCRIPTION:
URL:https://scottbennettcomedy.co.uk/event/haywards-heath/
ATTACH;FMTTYPE=image/jpeg:https://scottbennettcomedy.co.uk/wp-content/uploads/2022/03/AOH2A3102-c-Andy-Hollingworth-Archive-scaled.jpg
END:VEVENT
BEGIN:VEVENT
DTSTART;TZID=UTC:20230527T190000
DTEND;TZID=UTC:20230527T210000
DTSTAMP:20260421T141117
CREATED:20230329T125953Z
LAST-MODIFIED:20230402T220119Z
UID:1853-1685214000-1685221200@scottbennettcomedy.co.uk
SUMMARY:Forge
DESCRIPTION:
URL:https://scottbennettcomedy.co.uk/event/forge/
ATTACH;FMTTYPE=image/jpeg:https://scottbennettcomedy.co.uk/wp-content/uploads/2022/03/AOH2A3102-c-Andy-Hollingworth-Archive-scaled.jpg
END:VEVENT
BEGIN:VEVENT
DTSTART;TZID=UTC:20230526T210000
DTEND;TZID=UTC:20230526T220000
DTSTAMP:20260421T141117
CREATED:20230329T125919Z
LAST-MODIFIED:20230402T220250Z
UID:1851-1685134800-1685138400@scottbennettcomedy.co.uk
SUMMARY:Marston Moretaine - Comedy Cow
DESCRIPTION:
URL:https://scottbennettcomedy.co.uk/event/marston-moretaine-comedy-cow/
ATTACH;FMTTYPE=image/jpeg:https://scottbennettcomedy.co.uk/wp-content/uploads/2022/03/AOH2A3102-c-Andy-Hollingworth-Archive-scaled.jpg
END:VEVENT
BEGIN:VEVENT
DTSTART;TZID=UTC:20230526T190000
DTEND;TZID=UTC:20230526T210000
DTSTAMP:20260421T141117
CREATED:20230329T125700Z
LAST-MODIFIED:20230402T220410Z
UID:1849-1685127600-1685134800@scottbennettcomedy.co.uk
SUMMARY:Ely Anglia Comedy
DESCRIPTION:
URL:https://scottbennettcomedy.co.uk/event/ely-anglia-comedy/
ATTACH;FMTTYPE=image/jpeg:https://scottbennettcomedy.co.uk/wp-content/uploads/2022/03/AOH2A3102-c-Andy-Hollingworth-Archive-scaled.jpg
END:VEVENT
BEGIN:VEVENT
DTSTART;TZID=UTC:20230525T193000
DTEND;TZID=UTC:20230525T220000
DTSTAMP:20260421T141117
CREATED:20230201T004540Z
LAST-MODIFIED:20230201T004540Z
UID:1577-1685043000-1685052000@scottbennettcomedy.co.uk
SUMMARY:Southampton - The Attic - Great Scott Tour
DESCRIPTION:
URL:https://scottbennettcomedy.co.uk/event/southampton-the-attic-great-scott-tour/
LOCATION:The Attic
ATTACH;FMTTYPE=image/jpeg:https://scottbennettcomedy.co.uk/wp-content/uploads/2022/03/GREAT-SCOTT_1920x1080-imageonly.jpg
END:VEVENT
BEGIN:VEVENT
DTSTART;TZID=UTC:20230524T190000
DTEND;TZID=UTC:20230524T210000
DTSTAMP:20260421T141117
CREATED:20230329T125613Z
LAST-MODIFIED:20230402T220706Z
UID:1847-1684954800-1684962000@scottbennettcomedy.co.uk
SUMMARY:Stafford
DESCRIPTION:
URL:https://scottbennettcomedy.co.uk/event/stafford/
ATTACH;FMTTYPE=image/jpeg:https://scottbennettcomedy.co.uk/wp-content/uploads/2022/03/AOH2A3102-c-Andy-Hollingworth-Archive-scaled.jpg
END:VEVENT
BEGIN:VEVENT
DTSTART;TZID=UTC:20230521T210000
DTEND;TZID=UTC:20230521T220000
DTSTAMP:20260421T141117
CREATED:20230329T125537Z
LAST-MODIFIED:20230404T194347Z
UID:1845-1684702800-1684706400@scottbennettcomedy.co.uk
SUMMARY:Melbourne - Derbyshire
DESCRIPTION:
URL:https://scottbennettcomedy.co.uk/event/melbourne-derbyshire/
ATTACH;FMTTYPE=image/jpeg:https://scottbennettcomedy.co.uk/wp-content/uploads/2022/03/AOH2A3102-c-Andy-Hollingworth-Archive-scaled.jpg
END:VEVENT
BEGIN:VEVENT
DTSTART;TZID=UTC:20230520T210000
DTEND;TZID=UTC:20230520T220000
DTSTAMP:20260421T141117
CREATED:20230329T125502Z
LAST-MODIFIED:20230404T194539Z
UID:1843-1684616400-1684620000@scottbennettcomedy.co.uk
SUMMARY:Leeds - HiFi
DESCRIPTION:
URL:https://scottbennettcomedy.co.uk/event/leeds-hifi-2/
ATTACH;FMTTYPE=image/jpeg:https://scottbennettcomedy.co.uk/wp-content/uploads/2022/03/AOH2A3102-c-Andy-Hollingworth-Archive-scaled.jpg
END:VEVENT
BEGIN:VEVENT
DTSTART;TZID=UTC:20230520T163000
DTEND;TZID=UTC:20230520T180000
DTSTAMP:20260421T141117
CREATED:20230201T004158Z
LAST-MODIFIED:20230201T112312Z
UID:1574-1684600200-1684605600@scottbennettcomedy.co.uk
SUMMARY:Newcastle - The Stand (4.30pm) - Great Scott Tour
DESCRIPTION:
URL:https://scottbennettcomedy.co.uk/event/newcastle-the-stand-great-scott-tour/
LOCATION:The Stand
ATTACH;FMTTYPE=image/jpeg:https://scottbennettcomedy.co.uk/wp-content/uploads/2022/03/GREAT-SCOTT_1920x1080-imageonly.jpg
END:VEVENT
BEGIN:VEVENT
DTSTART;TZID=UTC:20230519T210000
DTEND;TZID=UTC:20230519T220000
DTSTAMP:20260421T141117
CREATED:20230329T125431Z
LAST-MODIFIED:20230404T194812Z
UID:1841-1684530000-1684533600@scottbennettcomedy.co.uk
SUMMARY:Oak
DESCRIPTION:
URL:https://scottbennettcomedy.co.uk/event/oak/
ATTACH;FMTTYPE=image/jpeg:https://scottbennettcomedy.co.uk/wp-content/uploads/2022/03/AOH2A3102-c-Andy-Hollingworth-Archive-scaled.jpg
END:VEVENT
BEGIN:VEVENT
DTSTART;TZID=UTC:20230519T190000
DTEND;TZID=UTC:20230519T210000
DTSTAMP:20260421T141117
CREATED:20230329T125404Z
LAST-MODIFIED:20230404T194913Z
UID:1839-1684522800-1684530000@scottbennettcomedy.co.uk
SUMMARY:Harrogate
DESCRIPTION:
URL:https://scottbennettcomedy.co.uk/event/harrogate/
ATTACH;FMTTYPE=image/jpeg:https://scottbennettcomedy.co.uk/wp-content/uploads/2022/03/AOH2A3102-c-Andy-Hollingworth-Archive-scaled.jpg
END:VEVENT
BEGIN:VEVENT
DTSTART;TZID=UTC:20230518T193000
DTEND;TZID=UTC:20230518T220000
DTSTAMP:20260421T141117
CREATED:20230201T004013Z
LAST-MODIFIED:20230201T004311Z
UID:1571-1684438200-1684447200@scottbennettcomedy.co.uk
SUMMARY:Carlisle - The Old Fire Station - Great Scott Tour
DESCRIPTION:
URL:https://scottbennettcomedy.co.uk/event/carlisle-the-old-fire-station-great-scott-tour/
LOCATION:The Old Fire Station
ATTACH;FMTTYPE=image/jpeg:https://scottbennettcomedy.co.uk/wp-content/uploads/2022/03/GREAT-SCOTT_1920x1080-imageonly.jpg
END:VEVENT
BEGIN:VEVENT
DTSTART;TZID=UTC:20230514T220000
DTEND;TZID=UTC:20230514T230000
DTSTAMP:20260421T141117
CREATED:20230329T125247Z
LAST-MODIFIED:20230404T195135Z
UID:1837-1684101600-1684105200@scottbennettcomedy.co.uk
SUMMARY:Ramsbottom
DESCRIPTION:
URL:https://scottbennettcomedy.co.uk/event/ramsbottom/
ATTACH;FMTTYPE=image/jpeg:https://scottbennettcomedy.co.uk/wp-content/uploads/2022/03/AOH2A3102-c-Andy-Hollingworth-Archive-scaled.jpg
END:VEVENT
BEGIN:VEVENT
DTSTART;TZID=UTC:20230514T210000
DTEND;TZID=UTC:20230514T220000
DTSTAMP:20260421T141117
CREATED:20230329T125218Z
LAST-MODIFIED:20230404T195231Z
UID:1835-1684098000-1684101600@scottbennettcomedy.co.uk
SUMMARY:Dunkenfield
DESCRIPTION:
URL:https://scottbennettcomedy.co.uk/event/dunkenfield/
ATTACH;FMTTYPE=image/jpeg:https://scottbennettcomedy.co.uk/wp-content/uploads/2022/03/AOH2A3102-c-Andy-Hollingworth-Archive-scaled.jpg
END:VEVENT
BEGIN:VEVENT
DTSTART;TZID=UTC:20230513T210000
DTEND;TZID=UTC:20230513T220000
DTSTAMP:20260421T141117
CREATED:20230329T125149Z
LAST-MODIFIED:20230404T195352Z
UID:1833-1684011600-1684015200@scottbennettcomedy.co.uk
SUMMARY:Lincoln
DESCRIPTION:
URL:https://scottbennettcomedy.co.uk/event/lincoln/
ATTACH;FMTTYPE=image/jpeg:https://scottbennettcomedy.co.uk/wp-content/uploads/2022/03/AOH2A3102-c-Andy-Hollingworth-Archive-scaled.jpg
END:VEVENT
BEGIN:VEVENT
DTSTART;TZID=UTC:20230513T190000
DTEND;TZID=UTC:20230513T210000
DTSTAMP:20260421T141117
CREATED:20230329T125128Z
LAST-MODIFIED:20230404T195512Z
UID:1831-1684004400-1684011600@scottbennettcomedy.co.uk
SUMMARY:Grimsby
DESCRIPTION:
URL:https://scottbennettcomedy.co.uk/event/grimsby/
ATTACH;FMTTYPE=image/jpeg:https://scottbennettcomedy.co.uk/wp-content/uploads/2022/03/AOH2A3102-c-Andy-Hollingworth-Archive-scaled.jpg
END:VEVENT
BEGIN:VEVENT
DTSTART;TZID=UTC:20230512T210000
DTEND;TZID=UTC:20230512T220000
DTSTAMP:20260421T141117
CREATED:20230329T125046Z
LAST-MODIFIED:20230404T200836Z
UID:1829-1683925200-1683928800@scottbennettcomedy.co.uk
SUMMARY:Cambridge
DESCRIPTION:
URL:https://scottbennettcomedy.co.uk/event/cambridge-hilarity-bites/
ATTACH;FMTTYPE=image/jpeg:https://scottbennettcomedy.co.uk/wp-content/uploads/2022/03/AOH2A3102-c-Andy-Hollingworth-Archive-scaled.jpg
END:VEVENT
BEGIN:VEVENT
DTSTART;TZID=UTC:20230511T210000
DTEND;TZID=UTC:20230511T220000
DTSTAMP:20260421T141117
CREATED:20230329T124848Z
LAST-MODIFIED:20230404T201036Z
UID:1827-1683838800-1683842400@scottbennettcomedy.co.uk
SUMMARY:Northampton - Comedy Crate
DESCRIPTION:
URL:https://scottbennettcomedy.co.uk/event/northampton-comedy-crate/
ATTACH;FMTTYPE=image/jpeg:https://scottbennettcomedy.co.uk/wp-content/uploads/2022/03/AOH2A3102-c-Andy-Hollingworth-Archive-scaled.jpg
END:VEVENT
BEGIN:VEVENT
DTSTART;TZID=UTC:20230510T210000
DTEND;TZID=UTC:20230510T220000
DTSTAMP:20260421T141117
CREATED:20230329T124752Z
LAST-MODIFIED:20230404T201258Z
UID:1825-1683752400-1683756000@scottbennettcomedy.co.uk
SUMMARY:Nottingham - Canalhouse - Work In Progress
DESCRIPTION:
URL:https://scottbennettcomedy.co.uk/event/nottingham-canalhouse-work-in-progress/
ATTACH;FMTTYPE=image/jpeg:https://scottbennettcomedy.co.uk/wp-content/uploads/2022/03/AOH2A3102-c-Andy-Hollingworth-Archive-scaled.jpg
END:VEVENT
BEGIN:VEVENT
DTSTART;TZID=UTC:20230509T210000
DTEND;TZID=UTC:20230509T220000
DTSTAMP:20260421T141117
CREATED:20230329T124705Z
LAST-MODIFIED:20230404T203348Z
UID:1823-1683666000-1683669600@scottbennettcomedy.co.uk
SUMMARY:Leamington - New Stuff
DESCRIPTION:
URL:https://scottbennettcomedy.co.uk/event/lemington-new-stuff/
ATTACH;FMTTYPE=image/jpeg:https://scottbennettcomedy.co.uk/wp-content/uploads/2022/03/AOH2A3102-c-Andy-Hollingworth-Archive-scaled.jpg
END:VEVENT
END:VCALENDAR