BEGIN:VCALENDAR
VERSION:2.0
PRODID:-//SCOTT BENNETT - ECPv6.15.11//NONSGML v1.0//EN
CALSCALE:GREGORIAN
METHOD:PUBLISH
X-ORIGINAL-URL:https://scottbennettcomedy.co.uk
X-WR-CALDESC:Events for SCOTT BENNETT
REFRESH-INTERVAL;VALUE=DURATION:PT1H
X-Robots-Tag:noindex
X-PUBLISHED-TTL:PT1H
BEGIN:VTIMEZONE
TZID:UTC
BEGIN:STANDARD
TZOFFSETFROM:+0000
TZOFFSETTO:+0000
TZNAME:UTC
DTSTART:20220101T000000
END:STANDARD
END:VTIMEZONE
BEGIN:VEVENT
DTSTART;TZID=UTC:20240219T193000
DTEND;TZID=UTC:20240219T220000
DTSTAMP:20260421T110438
CREATED:20230811T161851Z
LAST-MODIFIED:20230913T123630Z
UID:1929-1708371000-1708380000@scottbennettcomedy.co.uk
SUMMARY:Hexham - Queens Hall Arts Centre - Great Scott Tour
DESCRIPTION:
URL:https://scottbennettcomedy.co.uk/event/hexham-queens-hall-arts-centre-great-scott-tour/
LOCATION:Hexham Queens Hall Arts Centre
ATTACH;FMTTYPE=image/jpeg:https://scottbennettcomedy.co.uk/wp-content/uploads/2022/03/GREAT-SCOTT_1920x1080-imageonly.jpg
END:VEVENT
BEGIN:VEVENT
DTSTART;TZID=UTC:20240216T193000
DTEND;TZID=UTC:20240216T220000
DTSTAMP:20260421T110438
CREATED:20230811T161647Z
LAST-MODIFIED:20230811T161647Z
UID:1926-1708111800-1708120800@scottbennettcomedy.co.uk
SUMMARY:Warrington - Parr Hall - Great Scott Tour
DESCRIPTION:
URL:https://scottbennettcomedy.co.uk/event/warrington-parr-hall-great-scott-tour/
LOCATION:The Parr Hall
ATTACH;FMTTYPE=image/jpeg:https://scottbennettcomedy.co.uk/wp-content/uploads/2022/03/GREAT-SCOTT_1920x1080-imageonly.jpg
END:VEVENT
BEGIN:VEVENT
DTSTART;TZID=UTC:20240213T193000
DTEND;TZID=UTC:20240213T220000
DTSTAMP:20260421T110438
CREATED:20230811T161408Z
LAST-MODIFIED:20230811T161408Z
UID:1920-1707852600-1707861600@scottbennettcomedy.co.uk
SUMMARY:Norwich - The Playhouse - Great Scott Tour
DESCRIPTION:
URL:https://scottbennettcomedy.co.uk/event/norwich-the-playhouse-great-scott-tour/
LOCATION:Norwich Playhouse
ATTACH;FMTTYPE=image/jpeg:https://scottbennettcomedy.co.uk/wp-content/uploads/2022/03/GREAT-SCOTT_1920x1080-imageonly.jpg
END:VEVENT
BEGIN:VEVENT
DTSTART;TZID=UTC:20240211T193000
DTEND;TZID=UTC:20240211T220000
DTSTAMP:20260421T110438
CREATED:20230811T161024Z
LAST-MODIFIED:20230811T161024Z
UID:1917-1707679800-1707688800@scottbennettcomedy.co.uk
SUMMARY:Blackpool - The Comedy Station - Great Scott Tour
DESCRIPTION:
URL:https://scottbennettcomedy.co.uk/event/blackpool-the-comedy-station-great-scott-tour/
LOCATION:The Comedy Station
ATTACH;FMTTYPE=image/jpeg:https://scottbennettcomedy.co.uk/wp-content/uploads/2022/03/GREAT-SCOTT_1920x1080-imageonly.jpg
END:VEVENT
BEGIN:VEVENT
DTSTART;TZID=UTC:20240209T193000
DTEND;TZID=UTC:20240209T220000
DTSTAMP:20260421T110438
CREATED:20230811T155741Z
LAST-MODIFIED:20230811T160124Z
UID:1914-1707507000-1707516000@scottbennettcomedy.co.uk
SUMMARY:Huddesfield - Lawrence Batley Theatre Studio - Great Scott Tour
DESCRIPTION:
URL:https://scottbennettcomedy.co.uk/event/huddesfield-lawrence-batley-theatre-studio-great-scott-tour/
LOCATION:Lawrence Batley Theatre
ATTACH;FMTTYPE=image/jpeg:https://scottbennettcomedy.co.uk/wp-content/uploads/2022/03/GREAT-SCOTT_1920x1080-imageonly.jpg
END:VEVENT
BEGIN:VEVENT
DTSTART;TZID=UTC:20240208T193000
DTEND;TZID=UTC:20240208T220000
DTSTAMP:20260421T110438
CREATED:20230811T154351Z
LAST-MODIFIED:20230811T154351Z
UID:1911-1707420600-1707429600@scottbennettcomedy.co.uk
SUMMARY:Alnwick - Alnwick Playhouse - Great Scott Tour
DESCRIPTION:
URL:https://scottbennettcomedy.co.uk/event/alnwick-alnwick-playhouse-great-scott-tour/
LOCATION:Alnwick Playhouse
ATTACH;FMTTYPE=image/jpeg:https://scottbennettcomedy.co.uk/wp-content/uploads/2022/03/GREAT-SCOTT_1920x1080-imageonly.jpg
END:VEVENT
BEGIN:VEVENT
DTSTART;TZID=UTC:20240202T193000
DTEND;TZID=UTC:20240202T220000
DTSTAMP:20260421T110438
CREATED:20230811T154005Z
LAST-MODIFIED:20230811T154005Z
UID:1905-1706902200-1706911200@scottbennettcomedy.co.uk
SUMMARY:Lincoln - The Engine Shed - Great Scott Tour
DESCRIPTION:
URL:https://scottbennettcomedy.co.uk/event/lincoln-the-engine-shed-great-scott-tour/
LOCATION:The Engine Shed
ATTACH;FMTTYPE=image/jpeg:https://scottbennettcomedy.co.uk/wp-content/uploads/2022/03/GREAT-SCOTT_1920x1080-imageonly.jpg
END:VEVENT
BEGIN:VEVENT
DTSTART;TZID=UTC:20240131T193000
DTEND;TZID=UTC:20240131T220000
DTSTAMP:20260421T110438
CREATED:20230201T101601Z
LAST-MODIFIED:20231129T090635Z
UID:1605-1706729400-1706738400@scottbennettcomedy.co.uk
SUMMARY:Belfast - The Limelight - Great Scott Tour
DESCRIPTION:
URL:https://scottbennettcomedy.co.uk/event/belfast-limelight-great-scott-tour/
LOCATION:The Limelight
ATTACH;FMTTYPE=image/jpeg:https://scottbennettcomedy.co.uk/wp-content/uploads/2022/03/GREAT-SCOTT_1920x1080-imageonly.jpg
END:VEVENT
BEGIN:VEVENT
DTSTART;TZID=UTC:20231223T203000
DTEND;TZID=UTC:20231223T220000
DTSTAMP:20260421T110438
CREATED:20231214T173225Z
LAST-MODIFIED:20231214T173225Z
UID:2062-1703363400-1703368800@scottbennettcomedy.co.uk
SUMMARY:Dewsbury Comedy Club
DESCRIPTION:
URL:https://scottbennettcomedy.co.uk/event/dewsbury-comedy-club/
LOCATION:Dewsbury Town Hall
ATTACH;FMTTYPE=image/jpeg:https://scottbennettcomedy.co.uk/wp-content/uploads/2022/03/AOH2A3102-c-Andy-Hollingworth-Archive-scaled.jpg
END:VEVENT
BEGIN:VEVENT
DTSTART;TZID=UTC:20231222T203000
DTEND;TZID=UTC:20231222T220000
DTSTAMP:20260421T110438
CREATED:20231214T172903Z
LAST-MODIFIED:20231214T172903Z
UID:2059-1703277000-1703282400@scottbennettcomedy.co.uk
SUMMARY:Torquay Comedy Club
DESCRIPTION:
URL:https://scottbennettcomedy.co.uk/event/torquay-comedy-club/
LOCATION:The Imperial Hotel
ATTACH;FMTTYPE=image/jpeg:https://scottbennettcomedy.co.uk/wp-content/uploads/2022/03/AOH2A3102-c-Andy-Hollingworth-Archive-scaled.jpg
END:VEVENT
BEGIN:VEVENT
DTSTART;TZID=UTC:20231221T203000
DTEND;TZID=UTC:20231221T220000
DTSTAMP:20260421T110438
CREATED:20231214T172519Z
LAST-MODIFIED:20231214T172519Z
UID:2055-1703190600-1703196000@scottbennettcomedy.co.uk
SUMMARY:Really Funny Comedy Harrogate
DESCRIPTION:
URL:https://scottbennettcomedy.co.uk/event/really-funny-comedy-harrogate/
LOCATION:Unit H5\, Fifth Avenue\, Hornbeam Park
ATTACH;FMTTYPE=image/jpeg:https://scottbennettcomedy.co.uk/wp-content/uploads/2022/03/AOH2A3102-c-Andy-Hollingworth-Archive-scaled.jpg
END:VEVENT
BEGIN:VEVENT
DTSTART;TZID=UTC:20231220T203000
DTEND;TZID=UTC:20231220T220000
DTSTAMP:20260421T110438
CREATED:20231214T172053Z
LAST-MODIFIED:20231214T172053Z
UID:2052-1703104200-1703109600@scottbennettcomedy.co.uk
SUMMARY:Kenilworth Comedy Club
DESCRIPTION:
URL:https://scottbennettcomedy.co.uk/event/kenilworth-comedy-club/
LOCATION:Holiday Inn
ATTACH;FMTTYPE=image/jpeg:https://scottbennettcomedy.co.uk/wp-content/uploads/2022/03/AOH2A3102-c-Andy-Hollingworth-Archive-scaled.jpg
END:VEVENT
BEGIN:VEVENT
DTSTART;TZID=UTC:20231217T203000
DTEND;TZID=UTC:20231217T220000
DTSTAMP:20260421T110438
CREATED:20231214T171326Z
LAST-MODIFIED:20231214T172149Z
UID:2048-1702845000-1702850400@scottbennettcomedy.co.uk
SUMMARY:Laffalot Swadlincote
DESCRIPTION:
URL:https://scottbennettcomedy.co.uk/event/laffalot-swadlincote/
LOCATION:Peggys Bar Swadlincote
ATTACH;FMTTYPE=image/jpeg:https://scottbennettcomedy.co.uk/wp-content/uploads/2022/03/AOH2A3102-c-Andy-Hollingworth-Archive-scaled.jpg
END:VEVENT
BEGIN:VEVENT
DTSTART;TZID=UTC:20231213T203000
DTEND;TZID=UTC:20231217T220000
DTSTAMP:20260421T110438
CREATED:20231214T170403Z
LAST-MODIFIED:20231214T170403Z
UID:2044-1702499400-1702850400@scottbennettcomedy.co.uk
SUMMARY:Birmingham Glee Club
DESCRIPTION:
URL:https://scottbennettcomedy.co.uk/event/birmingham-glee-club/
LOCATION:Glee Birmingham
ATTACH;FMTTYPE=image/jpeg:https://scottbennettcomedy.co.uk/wp-content/uploads/2022/03/AOH2A3102-c-Andy-Hollingworth-Archive-scaled.jpg
END:VEVENT
BEGIN:VEVENT
DTSTART;TZID=UTC:20231112T193000
DTEND;TZID=UTC:20231112T220000
DTSTAMP:20260421T110438
CREATED:20230201T100859Z
LAST-MODIFIED:20230201T100859Z
UID:1590-1699817400-1699826400@scottbennettcomedy.co.uk
SUMMARY:Barton Upon Humber - The Ropery Hall - Great Scott Tour
DESCRIPTION:
URL:https://scottbennettcomedy.co.uk/event/barton-upon-humber-the-ropery-hall-great-scott-tour/
LOCATION:Ropery Hall
ATTACH;FMTTYPE=image/jpeg:https://scottbennettcomedy.co.uk/wp-content/uploads/2022/03/GREAT-SCOTT_1920x1080-imageonly.jpg
END:VEVENT
BEGIN:VEVENT
DTSTART;TZID=UTC:20231111T193000
DTEND;TZID=UTC:20231111T220000
DTSTAMP:20260421T110438
CREATED:20230201T102150Z
LAST-MODIFIED:20230201T102150Z
UID:1614-1699731000-1699740000@scottbennettcomedy.co.uk
SUMMARY:Bradford - The Alhambra Studio - Great Scott Tour
DESCRIPTION:
URL:https://scottbennettcomedy.co.uk/event/bradford-the-alhambra-studio-great-scott-tour/
LOCATION:Alhambra Studio
ATTACH;FMTTYPE=image/jpeg:https://scottbennettcomedy.co.uk/wp-content/uploads/2022/03/GREAT-SCOTT_1920x1080-imageonly.jpg
END:VEVENT
BEGIN:VEVENT
DTSTART;TZID=UTC:20231108T193000
DTEND;TZID=UTC:20231108T220000
DTSTAMP:20260421T110438
CREATED:20230201T101432Z
LAST-MODIFIED:20230201T101432Z
UID:1602-1699471800-1699480800@scottbennettcomedy.co.uk
SUMMARY:Dublin - Wheelans - Great Scott Tour
DESCRIPTION:
URL:https://scottbennettcomedy.co.uk/event/dublin-wheelans-great-scott-tour/
LOCATION:Wheelans
ATTACH;FMTTYPE=image/jpeg:https://scottbennettcomedy.co.uk/wp-content/uploads/2022/03/GREAT-SCOTT_1920x1080-imageonly.jpg
END:VEVENT
BEGIN:VEVENT
DTSTART;TZID=UTC:20231104T193000
DTEND;TZID=UTC:20231104T220000
DTSTAMP:20260421T110438
CREATED:20230201T101315Z
LAST-MODIFIED:20230201T101315Z
UID:1599-1699126200-1699135200@scottbennettcomedy.co.uk
SUMMARY:Verwood - The Hub - Great Scott Tour
DESCRIPTION:
URL:https://scottbennettcomedy.co.uk/event/verwood-the-hub-great-scott-tour/
LOCATION:The Hub
ATTACH;FMTTYPE=image/jpeg:https://scottbennettcomedy.co.uk/wp-content/uploads/2022/03/GREAT-SCOTT_1920x1080-imageonly.jpg
END:VEVENT
BEGIN:VEVENT
DTSTART;TZID=UTC:20231103T193000
DTEND;TZID=UTC:20231103T220000
DTSTAMP:20260421T110438
CREATED:20230201T101156Z
LAST-MODIFIED:20230201T101156Z
UID:1596-1699039800-1699048800@scottbennettcomedy.co.uk
SUMMARY:Wellingborough - Castle Theatre - Great Scott Tour
DESCRIPTION:
URL:https://scottbennettcomedy.co.uk/event/wellingborough-castle-theatre-great-scott-tour/
LOCATION:Castle Theatre
ATTACH;FMTTYPE=image/jpeg:https://scottbennettcomedy.co.uk/wp-content/uploads/2022/03/GREAT-SCOTT_1920x1080-imageonly.jpg
END:VEVENT
BEGIN:VEVENT
DTSTART;TZID=UTC:20231102T193000
DTEND;TZID=UTC:20231102T220000
DTSTAMP:20260421T110438
CREATED:20230201T101047Z
LAST-MODIFIED:20230201T101047Z
UID:1593-1698953400-1698962400@scottbennettcomedy.co.uk
SUMMARY:Brighton - Komedia - Great Scott Tour
DESCRIPTION:
URL:https://scottbennettcomedy.co.uk/event/brighton-komedia-great-scott-tour/
LOCATION:Komedia
ATTACH;FMTTYPE=image/jpeg:https://scottbennettcomedy.co.uk/wp-content/uploads/2022/03/GREAT-SCOTT_1920x1080-imageonly.jpg
END:VEVENT
BEGIN:VEVENT
DTSTART;TZID=UTC:20231015T193000
DTEND;TZID=UTC:20231015T220000
DTSTAMP:20260421T110438
CREATED:20230201T005450Z
LAST-MODIFIED:20230201T005450Z
UID:1587-1697398200-1697407200@scottbennettcomedy.co.uk
SUMMARY:Cambridge - The Junction - Great Scott Tour
DESCRIPTION:
URL:https://scottbennettcomedy.co.uk/event/cambridge-the-junction-great-scott-tour/
LOCATION:The Junction
ATTACH;FMTTYPE=image/jpeg:https://scottbennettcomedy.co.uk/wp-content/uploads/2022/03/GREAT-SCOTT_1920x1080-imageonly.jpg
END:VEVENT
BEGIN:VEVENT
DTSTART;TZID=UTC:20231014T193000
DTEND;TZID=UTC:20231014T220000
DTSTAMP:20260421T110438
CREATED:20230201T005029Z
LAST-MODIFIED:20230201T102402Z
UID:1585-1697311800-1697320800@scottbennettcomedy.co.uk
SUMMARY:Maidstone - Hazlitt Theatre - Great Scott Tour
DESCRIPTION:
URL:https://scottbennettcomedy.co.uk/event/maidstone-hazlitt-theatre-great-scott-tour/
LOCATION:Hazlitt Theatre
ATTACH;FMTTYPE=image/jpeg:https://scottbennettcomedy.co.uk/wp-content/uploads/2022/03/GREAT-SCOTT_1920x1080-imageonly.jpg
END:VEVENT
BEGIN:VEVENT
DTSTART;TZID=UTC:20231013T193000
DTEND;TZID=UTC:20231013T220000
DTSTAMP:20260421T110438
CREATED:20230201T004904Z
LAST-MODIFIED:20230201T102306Z
UID:1583-1697225400-1697234400@scottbennettcomedy.co.uk
SUMMARY:Stafford - Gatehouse Theatre - Great Scott Tour
DESCRIPTION:
URL:https://scottbennettcomedy.co.uk/event/stafford-gatehouse-theatre-great-scott-tour/
LOCATION:Gatehouse Theatre
ATTACH;FMTTYPE=image/jpeg:https://scottbennettcomedy.co.uk/wp-content/uploads/2022/03/GREAT-SCOTT_1920x1080-imageonly.jpg
END:VEVENT
BEGIN:VEVENT
DTSTART;TZID=UTC:20231008T193000
DTEND;TZID=UTC:20231008T220000
DTSTAMP:20260421T110438
CREATED:20230219T132045Z
LAST-MODIFIED:20230219T132045Z
UID:1670-1696793400-1696802400@scottbennettcomedy.co.uk
SUMMARY:Swindon - Swindon Arts Centre - Great Scott Tour
DESCRIPTION:
URL:https://scottbennettcomedy.co.uk/event/swindon-swindon-arts-centre-great-scott-tour/
LOCATION:Swindon Arts Centre
ATTACH;FMTTYPE=image/jpeg:https://scottbennettcomedy.co.uk/wp-content/uploads/2022/03/GREAT-SCOTT_1920x1080-imageonly.jpg
END:VEVENT
BEGIN:VEVENT
DTSTART;TZID=UTC:20231002T193000
DTEND;TZID=UTC:20231002T220000
DTSTAMP:20260421T110438
CREATED:20230824T094432Z
LAST-MODIFIED:20230824T094432Z
UID:2018-1696275000-1696284000@scottbennettcomedy.co.uk
SUMMARY:Southwell - Radio 4 Warm Up / Work in Progress
DESCRIPTION:
URL:https://scottbennettcomedy.co.uk/event/southwell-radio-4-warm-up-work-in-progress/
LOCATION:Southwell Funhouse Comedy
ATTACH;FMTTYPE=image/jpeg:https://scottbennettcomedy.co.uk/wp-content/uploads/2022/03/AOH2A3102-c-Andy-Hollingworth-Archive-scaled.jpg
END:VEVENT
BEGIN:VEVENT
DTSTART;TZID=UTC:20230927T193000
DTEND;TZID=UTC:20230927T220000
DTSTAMP:20260421T110438
CREATED:20230824T094301Z
LAST-MODIFIED:20230824T094301Z
UID:2015-1695843000-1695852000@scottbennettcomedy.co.uk
SUMMARY:London - Radio 4 Warm Up / Work in Progress
DESCRIPTION:
URL:https://scottbennettcomedy.co.uk/event/london-radio-4-warm-up-work-in-progress/
LOCATION:The Tommyfield
ATTACH;FMTTYPE=image/jpeg:https://scottbennettcomedy.co.uk/wp-content/uploads/2022/03/AOH2A3102-c-Andy-Hollingworth-Archive-scaled.jpg
END:VEVENT
BEGIN:VEVENT
DTSTART;TZID=UTC:20230926T193000
DTEND;TZID=UTC:20230926T220000
DTSTAMP:20260421T110438
CREATED:20230824T094100Z
LAST-MODIFIED:20230824T094100Z
UID:2012-1695756600-1695765600@scottbennettcomedy.co.uk
SUMMARY:Ayelstone - Radio 4 Warm Up / Work in Progress
DESCRIPTION:
URL:https://scottbennettcomedy.co.uk/event/ayelstone-radio-4-warm-up-work-in-progress/
LOCATION:The Black Horse
ATTACH;FMTTYPE=image/jpeg:https://scottbennettcomedy.co.uk/wp-content/uploads/2022/03/AOH2A3102-c-Andy-Hollingworth-Archive-scaled.jpg
END:VEVENT
BEGIN:VEVENT
DTSTART;TZID=UTC:20230920T193000
DTEND;TZID=UTC:20230920T220000
DTSTAMP:20260421T110438
CREATED:20230219T131521Z
LAST-MODIFIED:20230219T131521Z
UID:1667-1695238200-1695247200@scottbennettcomedy.co.uk
SUMMARY:Sheffield - The Leadmill - Great Scott Tour
DESCRIPTION:
URL:https://scottbennettcomedy.co.uk/event/sheffield-the-leadmill-great-scott-tour/
LOCATION:The Leadmill
ATTACH;FMTTYPE=image/jpeg:https://scottbennettcomedy.co.uk/wp-content/uploads/2022/03/GREAT-SCOTT_1920x1080-imageonly.jpg
END:VEVENT
BEGIN:VEVENT
DTSTART;TZID=UTC:20230913T193000
DTEND;TZID=UTC:20230913T220000
DTSTAMP:20260421T110438
CREATED:20230824T093925Z
LAST-MODIFIED:20230824T093925Z
UID:2009-1694633400-1694642400@scottbennettcomedy.co.uk
SUMMARY:Moseley - Radio 4 Warm Up / Work in Progress
DESCRIPTION:
URL:https://scottbennettcomedy.co.uk/event/moseley-radio-4-warm-up-work-in-progress/
LOCATION:Fat Penguin
ATTACH;FMTTYPE=image/jpeg:https://scottbennettcomedy.co.uk/wp-content/uploads/2022/03/AOH2A3102-c-Andy-Hollingworth-Archive-scaled.jpg
END:VEVENT
BEGIN:VEVENT
DTSTART;TZID=UTC:20230904T193000
DTEND;TZID=UTC:20230904T220000
DTSTAMP:20260421T110438
CREATED:20230824T093721Z
LAST-MODIFIED:20230824T093721Z
UID:2006-1693855800-1693864800@scottbennettcomedy.co.uk
SUMMARY:Derby - Radio 4 Warm Up / Work in Progress
DESCRIPTION:
URL:https://scottbennettcomedy.co.uk/event/derby-radio-4-warm-up-work-in-progress/
LOCATION:Blessington Carriage
ATTACH;FMTTYPE=image/jpeg:https://scottbennettcomedy.co.uk/wp-content/uploads/2022/03/AOH2A3102-c-Andy-Hollingworth-Archive-scaled.jpg
END:VEVENT
END:VCALENDAR