BEGIN:VCALENDAR
VERSION:2.0
PRODID:-//SCOTT BENNETT - ECPv6.15.11//NONSGML v1.0//EN
CALSCALE:GREGORIAN
METHOD:PUBLISH
X-WR-CALNAME:SCOTT BENNETT
X-ORIGINAL-URL:https://scottbennettcomedy.co.uk
X-WR-CALDESC:Events for SCOTT BENNETT
REFRESH-INTERVAL;VALUE=DURATION:PT1H
X-Robots-Tag:noindex
X-PUBLISHED-TTL:PT1H
BEGIN:VTIMEZONE
TZID:UTC
BEGIN:STANDARD
TZOFFSETFROM:+0000
TZOFFSETTO:+0000
TZNAME:UTC
DTSTART:20230101T000000
END:STANDARD
END:VTIMEZONE
BEGIN:VEVENT
DTSTART;TZID=UTC:20240513T200000
DTEND;TZID=UTC:20240513T220000
DTSTAMP:20260421T082538
CREATED:20240506T104453Z
LAST-MODIFIED:20240506T104453Z
UID:2150-1715630400-1715637600@scottbennettcomedy.co.uk
SUMMARY:Funhouse comedy (New stuff) - Derby
DESCRIPTION:
URL:https://scottbennettcomedy.co.uk/event/funhouse-comedy-new-stuff-derby/
ATTACH;FMTTYPE=image/jpeg:https://scottbennettcomedy.co.uk/wp-content/uploads/2022/03/AOH2A3102-c-Andy-Hollingworth-Archive-scaled.jpg
END:VEVENT
BEGIN:VEVENT
DTSTART;TZID=UTC:20240511T203000
DTEND;TZID=UTC:20240511T213000
DTSTAMP:20260421T082538
CREATED:20240502T220459Z
LAST-MODIFIED:20240502T220459Z
UID:2140-1715459400-1715463000@scottbennettcomedy.co.uk
SUMMARY:Chiswick - Headliners premium show
DESCRIPTION:
URL:https://scottbennettcomedy.co.uk/event/https-www-wegottickets-com-event-614670/
ATTACH;FMTTYPE=image/jpeg:https://scottbennettcomedy.co.uk/wp-content/uploads/2022/03/AOH2A3102-c-Andy-Hollingworth-Archive-scaled.jpg
END:VEVENT
BEGIN:VEVENT
DTSTART;TZID=UTC:20240511T200000
DTEND;TZID=UTC:20240511T203000
DTSTAMP:20260421T082538
CREATED:20240502T220944Z
LAST-MODIFIED:20240502T220944Z
UID:2142-1715457600-1715459400@scottbennettcomedy.co.uk
SUMMARY:Fuzzy bear comedy - Windsor
DESCRIPTION:
URL:https://scottbennettcomedy.co.uk/event/https-fuzzybearwindsor-co-uk-events-saturdaynightcomedy240511/
ATTACH;FMTTYPE=image/jpeg:https://scottbennettcomedy.co.uk/wp-content/uploads/2022/03/AOH2A3102-c-Andy-Hollingworth-Archive-scaled.jpg
END:VEVENT
BEGIN:VEVENT
DTSTART;TZID=UTC:20240511T150000
DTEND;TZID=UTC:20240511T163000
DTSTAMP:20260421T082538
CREATED:20240502T220008Z
LAST-MODIFIED:20240506T212233Z
UID:2138-1715439600-1715445000@scottbennettcomedy.co.uk
SUMMARY:Potteries comedy festival (1pm show) - stoke on trent
DESCRIPTION:
URL:https://scottbennettcomedy.co.uk/event/https-www-ticketsource-co-uk-whats-on-stoke-on-trent-the-potteries-museum-art-gallery-forum-theatre-scott-bennett-stuff-work-in-progress-stoke-on-trent-comedy-festival-e-xgkykl/
ATTACH;FMTTYPE=image/jpeg:https://scottbennettcomedy.co.uk/wp-content/uploads/2022/03/AOH2A3102-c-Andy-Hollingworth-Archive-scaled.jpg
END:VEVENT
BEGIN:VEVENT
DTSTART;TZID=UTC:20240510T200000
DTEND;TZID=UTC:20240510T220000
DTSTAMP:20260421T082538
CREATED:20240502T215708Z
LAST-MODIFIED:20240502T215709Z
UID:2136-1715371200-1715378400@scottbennettcomedy.co.uk
SUMMARY:Downlands comedy night - west sussex
DESCRIPTION:
URL:https://scottbennettcomedy.co.uk/event/https-www-tickettailor-com-events-downlandsschoolassociation-1200346/
ATTACH;FMTTYPE=image/jpeg:https://scottbennettcomedy.co.uk/wp-content/uploads/2022/03/AOH2A3102-c-Andy-Hollingworth-Archive-scaled.jpg
END:VEVENT
BEGIN:VEVENT
DTSTART;TZID=UTC:20240509T200000
DTEND;TZID=UTC:20240509T220000
DTSTAMP:20260421T082538
CREATED:20240506T104036Z
LAST-MODIFIED:20240506T104036Z
UID:2147-1715284800-1715292000@scottbennettcomedy.co.uk
SUMMARY:Oxford nice and spiky (MC) - oxford
DESCRIPTION:
URL:https://scottbennettcomedy.co.uk/event/oxford-nice-and-spiky-mc-oxford/
ATTACH;FMTTYPE=image/jpeg:https://scottbennettcomedy.co.uk/wp-content/uploads/2022/03/AOH2A3102-c-Andy-Hollingworth-Archive-scaled.jpg
END:VEVENT
BEGIN:VEVENT
DTSTART;TZID=UTC:20240508T193000
DTEND;TZID=UTC:20240508T220000
DTSTAMP:20260421T082538
CREATED:20240502T214911Z
LAST-MODIFIED:20240502T214911Z
UID:2134-1715196600-1715205600@scottbennettcomedy.co.uk
SUMMARY:MC for Harry Hill - battersea
DESCRIPTION:
URL:https://scottbennettcomedy.co.uk/event/https-www-thecinemainthepowerstation-com-film-the-comedy-club-in-the-power-station/
ATTACH;FMTTYPE=image/jpeg:https://scottbennettcomedy.co.uk/wp-content/uploads/2022/03/AOH2A3102-c-Andy-Hollingworth-Archive-scaled.jpg
END:VEVENT
BEGIN:VEVENT
DTSTART;TZID=UTC:20240507T200000
DTEND;TZID=UTC:20240507T220000
DTSTAMP:20260421T082538
CREATED:20240502T214337Z
LAST-MODIFIED:20240502T214337Z
UID:2132-1715112000-1715119200@scottbennettcomedy.co.uk
SUMMARY:Work in Progress Wollaton Nottm
DESCRIPTION:
URL:https://scottbennettcomedy.co.uk/event/https-www-wegottickets-com-searchresults-location/
ATTACH;FMTTYPE=image/jpeg:https://scottbennettcomedy.co.uk/wp-content/uploads/2022/03/AOH2A3102-c-Andy-Hollingworth-Archive-scaled.jpg
END:VEVENT
BEGIN:VEVENT
DTSTART;TZID=UTC:20240505T200000
DTEND;TZID=UTC:20240505T220000
DTSTAMP:20260421T082538
CREATED:20240424T223652Z
LAST-MODIFIED:20240424T223652Z
UID:2123-1714939200-1714946400@scottbennettcomedy.co.uk
SUMMARY:Machynlleth comedy festival - Sugarfree (WIP)
DESCRIPTION:
URL:https://scottbennettcomedy.co.uk/event/machynlleth-comedy-festival-blood-sugar-baby-wip/
ATTACH;FMTTYPE=image/jpeg:https://scottbennettcomedy.co.uk/wp-content/uploads/2022/03/AOH2A3102-c-Andy-Hollingworth-Archive-scaled.jpg
END:VEVENT
BEGIN:VEVENT
DTSTART;TZID=UTC:20240503T210000
DTEND;TZID=UTC:20240503T220000
DTSTAMP:20260421T082538
CREATED:20240424T223206Z
LAST-MODIFIED:20240424T223206Z
UID:2121-1714770000-1714773600@scottbennettcomedy.co.uk
SUMMARY:Portsmouth Comedy Club
DESCRIPTION:
URL:https://scottbennettcomedy.co.uk/event/portsmouth-comedy-club/
ATTACH;FMTTYPE=image/jpeg:https://scottbennettcomedy.co.uk/wp-content/uploads/2022/03/AOH2A3102-c-Andy-Hollingworth-Archive-scaled.jpg
END:VEVENT
BEGIN:VEVENT
DTSTART;TZID=UTC:20240503T200000
DTEND;TZID=UTC:20240503T203000
DTSTAMP:20260421T082538
CREATED:20240424T222721Z
LAST-MODIFIED:20240424T222721Z
UID:2119-1714766400-1714768200@scottbennettcomedy.co.uk
SUMMARY:Wickham Comedy Club
DESCRIPTION:
URL:https://scottbennettcomedy.co.uk/event/wickham-comedy-club/
ATTACH;FMTTYPE=image/jpeg:https://scottbennettcomedy.co.uk/wp-content/uploads/2022/03/AOH2A3102-c-Andy-Hollingworth-Archive-scaled.jpg
END:VEVENT
BEGIN:VEVENT
DTSTART;TZID=UTC:20240502T203000
DTEND;TZID=UTC:20240502T220000
DTSTAMP:20260421T082538
CREATED:20240424T222408Z
LAST-MODIFIED:20240424T222408Z
UID:2117-1714681800-1714687200@scottbennettcomedy.co.uk
SUMMARY:Embassy Theatre Skegness
DESCRIPTION:
URL:https://scottbennettcomedy.co.uk/event/embassy-theatre-skegness/
ATTACH;FMTTYPE=image/jpeg:https://scottbennettcomedy.co.uk/wp-content/uploads/2022/03/AOH2A3102-c-Andy-Hollingworth-Archive-scaled.jpg
END:VEVENT
BEGIN:VEVENT
DTSTART;TZID=UTC:20240430T203000
DTEND;TZID=UTC:20240430T220000
DTSTAMP:20260421T082538
CREATED:20240424T222105Z
LAST-MODIFIED:20240424T222105Z
UID:2115-1714509000-1714514400@scottbennettcomedy.co.uk
SUMMARY:Stockport Plaza
DESCRIPTION:
URL:https://scottbennettcomedy.co.uk/event/stockport-plaza/
ATTACH;FMTTYPE=image/jpeg:https://scottbennettcomedy.co.uk/wp-content/uploads/2022/03/AOH2A3102-c-Andy-Hollingworth-Archive-scaled.jpg
END:VEVENT
BEGIN:VEVENT
DTSTART;TZID=UTC:20240428T203000
DTEND;TZID=UTC:20240428T220000
DTSTAMP:20260421T082538
CREATED:20240424T221921Z
LAST-MODIFIED:20240424T221921Z
UID:2113-1714336200-1714341600@scottbennettcomedy.co.uk
SUMMARY:Davenham Comedy Club
DESCRIPTION:
URL:https://scottbennettcomedy.co.uk/event/davenham-comedy-club/
ATTACH;FMTTYPE=image/jpeg:https://scottbennettcomedy.co.uk/wp-content/uploads/2022/03/AOH2A3102-c-Andy-Hollingworth-Archive-scaled.jpg
END:VEVENT
BEGIN:VEVENT
DTSTART;TZID=UTC:20240427T203000
DTEND;TZID=UTC:20240427T220000
DTSTAMP:20260421T082538
CREATED:20240423T214924Z
LAST-MODIFIED:20240423T214924Z
UID:2101-1714249800-1714255200@scottbennettcomedy.co.uk
SUMMARY:Hayling Island Comedy Club
DESCRIPTION:
URL:https://scottbennettcomedy.co.uk/event/hayling-island-comedy-club/
ATTACH;FMTTYPE=image/jpeg:https://scottbennettcomedy.co.uk/wp-content/uploads/2022/03/AOH2A3102-c-Andy-Hollingworth-Archive-scaled.jpg
END:VEVENT
BEGIN:VEVENT
DTSTART;TZID=UTC:20240426T203000
DTEND;TZID=UTC:20240426T220000
DTSTAMP:20260421T082538
CREATED:20240423T214747Z
LAST-MODIFIED:20240423T214747Z
UID:2099-1714163400-1714168800@scottbennettcomedy.co.uk
SUMMARY:Fishbourne Comedy Club
DESCRIPTION:
URL:https://scottbennettcomedy.co.uk/event/fishbourne-comedy-club/
ATTACH;FMTTYPE=image/jpeg:https://scottbennettcomedy.co.uk/wp-content/uploads/2022/03/AOH2A3102-c-Andy-Hollingworth-Archive-scaled.jpg
END:VEVENT
BEGIN:VEVENT
DTSTART;TZID=UTC:20240304T193000
DTEND;TZID=UTC:20240304T220000
DTSTAMP:20260421T082538
CREATED:20231129T090858Z
LAST-MODIFIED:20231129T091938Z
UID:2038-1709580600-1709589600@scottbennettcomedy.co.uk
SUMMARY:Darlington - The Forum - Great Scott Tour
DESCRIPTION:
URL:https://scottbennettcomedy.co.uk/event/https-www-darlingtonhippodrome-co-uk-whats-on-scott-bennett-great-scott/
LOCATION:Hullabaloo
ATTACH;FMTTYPE=image/jpeg:https://scottbennettcomedy.co.uk/wp-content/uploads/2022/03/GREAT-SCOTT_1920x1080-imageonly.jpg
END:VEVENT
BEGIN:VEVENT
DTSTART;TZID=UTC:20240229T193000
DTEND;TZID=UTC:20240229T220000
DTSTAMP:20260421T082538
CREATED:20230811T163001Z
LAST-MODIFIED:20230811T163001Z
UID:1950-1709235000-1709244000@scottbennettcomedy.co.uk
SUMMARY:Great Torrington - The Plough Arts Centre - Great Scott Tour
DESCRIPTION:
URL:https://scottbennettcomedy.co.uk/event/great-torrington-the-plough-arts-centre-great-scott-tour/
LOCATION:The Plough Arts Centre
ATTACH;FMTTYPE=image/jpeg:https://scottbennettcomedy.co.uk/wp-content/uploads/2022/03/GREAT-SCOTT_1920x1080-imageonly.jpg
END:VEVENT
BEGIN:VEVENT
DTSTART;TZID=UTC:20240228T193000
DTEND;TZID=UTC:20240228T220000
DTSTAMP:20260421T082538
CREATED:20230811T162842Z
LAST-MODIFIED:20230811T162842Z
UID:1947-1709148600-1709157600@scottbennettcomedy.co.uk
SUMMARY:Exeter - Barnfield Theatre - Great Scott Tour
DESCRIPTION:
URL:https://scottbennettcomedy.co.uk/event/exeter-barnfield-theatre-great-scott-tour/
LOCATION:Barnfield Theatre
ATTACH;FMTTYPE=image/jpeg:https://scottbennettcomedy.co.uk/wp-content/uploads/2022/03/GREAT-SCOTT_1920x1080-imageonly.jpg
END:VEVENT
BEGIN:VEVENT
DTSTART;TZID=UTC:20240227T193000
DTEND;TZID=UTC:20240227T220000
DTSTAMP:20260421T082538
CREATED:20230811T162723Z
LAST-MODIFIED:20230811T162723Z
UID:1944-1709062200-1709071200@scottbennettcomedy.co.uk
SUMMARY:Cheltenham - Pillar Rooms - Great Scott Tour
DESCRIPTION:
URL:https://scottbennettcomedy.co.uk/event/cheltenham-pillar-rooms-great-scott-tour/
LOCATION:The Pillar Rooms
ATTACH;FMTTYPE=image/jpeg:https://scottbennettcomedy.co.uk/wp-content/uploads/2022/03/GREAT-SCOTT_1920x1080-imageonly.jpg
END:VEVENT
BEGIN:VEVENT
DTSTART;TZID=UTC:20240225T193000
DTEND;TZID=UTC:20240225T220000
DTSTAMP:20260421T082538
CREATED:20230811T162611Z
LAST-MODIFIED:20230811T162611Z
UID:1942-1708889400-1708898400@scottbennettcomedy.co.uk
SUMMARY:Carlisle - Old Fire Station - Great Scott Tour
DESCRIPTION:
URL:https://scottbennettcomedy.co.uk/event/carlisle-old-fire-station-great-scott-tour/
LOCATION:Old Fire Station
ATTACH;FMTTYPE=image/jpeg:https://scottbennettcomedy.co.uk/wp-content/uploads/2022/03/GREAT-SCOTT_1920x1080-imageonly.jpg
END:VEVENT
BEGIN:VEVENT
DTSTART;TZID=UTC:20240224T193000
DTEND;TZID=UTC:20240224T220000
DTSTAMP:20260421T082538
CREATED:20230811T162513Z
LAST-MODIFIED:20230811T162513Z
UID:1939-1708803000-1708812000@scottbennettcomedy.co.uk
SUMMARY:Oxford - Old Fire Station - Great Scott Tour
DESCRIPTION:
URL:https://scottbennettcomedy.co.uk/event/oxford-old-fire-station-great-scott-tour/
LOCATION:Old Fire Station
ATTACH;FMTTYPE=image/jpeg:https://scottbennettcomedy.co.uk/wp-content/uploads/2022/03/GREAT-SCOTT_1920x1080-imageonly.jpg
END:VEVENT
BEGIN:VEVENT
DTSTART;TZID=UTC:20240223T193000
DTEND;TZID=UTC:20240223T220000
DTSTAMP:20260421T082538
CREATED:20230811T162136Z
LAST-MODIFIED:20230811T162136Z
UID:1935-1708716600-1708725600@scottbennettcomedy.co.uk
SUMMARY:Rotherham - The Civic - Great Scott Tour
DESCRIPTION:
URL:https://scottbennettcomedy.co.uk/event/rotherham-the-civic-great-scott-tour/
LOCATION:The Civic
ATTACH;FMTTYPE=image/jpeg:https://scottbennettcomedy.co.uk/wp-content/uploads/2022/03/GREAT-SCOTT_1920x1080-imageonly.jpg
END:VEVENT
BEGIN:VEVENT
DTSTART;TZID=UTC:20240220T193000
DTEND;TZID=UTC:20240220T220000
DTSTAMP:20260421T082538
CREATED:20230811T162030Z
LAST-MODIFIED:20230913T123713Z
UID:1932-1708457400-1708466400@scottbennettcomedy.co.uk
SUMMARY:Northallerton - The Forum - Great Scott Tour
DESCRIPTION:
URL:https://scottbennettcomedy.co.uk/event/northallerton-the-forum-great-scott-tour/
LOCATION:The Forum
ATTACH;FMTTYPE=image/jpeg:https://scottbennettcomedy.co.uk/wp-content/uploads/2022/03/GREAT-SCOTT_1920x1080-imageonly.jpg
END:VEVENT
BEGIN:VEVENT
DTSTART;TZID=UTC:20240219T193000
DTEND;TZID=UTC:20240219T220000
DTSTAMP:20260421T082538
CREATED:20230811T161851Z
LAST-MODIFIED:20230913T123630Z
UID:1929-1708371000-1708380000@scottbennettcomedy.co.uk
SUMMARY:Hexham - Queens Hall Arts Centre - Great Scott Tour
DESCRIPTION:
URL:https://scottbennettcomedy.co.uk/event/hexham-queens-hall-arts-centre-great-scott-tour/
LOCATION:Hexham Queens Hall Arts Centre
ATTACH;FMTTYPE=image/jpeg:https://scottbennettcomedy.co.uk/wp-content/uploads/2022/03/GREAT-SCOTT_1920x1080-imageonly.jpg
END:VEVENT
BEGIN:VEVENT
DTSTART;TZID=UTC:20240216T193000
DTEND;TZID=UTC:20240216T220000
DTSTAMP:20260421T082538
CREATED:20230811T161647Z
LAST-MODIFIED:20230811T161647Z
UID:1926-1708111800-1708120800@scottbennettcomedy.co.uk
SUMMARY:Warrington - Parr Hall - Great Scott Tour
DESCRIPTION:
URL:https://scottbennettcomedy.co.uk/event/warrington-parr-hall-great-scott-tour/
LOCATION:The Parr Hall
ATTACH;FMTTYPE=image/jpeg:https://scottbennettcomedy.co.uk/wp-content/uploads/2022/03/GREAT-SCOTT_1920x1080-imageonly.jpg
END:VEVENT
BEGIN:VEVENT
DTSTART;TZID=UTC:20240213T193000
DTEND;TZID=UTC:20240213T220000
DTSTAMP:20260421T082538
CREATED:20230811T161408Z
LAST-MODIFIED:20230811T161408Z
UID:1920-1707852600-1707861600@scottbennettcomedy.co.uk
SUMMARY:Norwich - The Playhouse - Great Scott Tour
DESCRIPTION:
URL:https://scottbennettcomedy.co.uk/event/norwich-the-playhouse-great-scott-tour/
LOCATION:Norwich Playhouse
ATTACH;FMTTYPE=image/jpeg:https://scottbennettcomedy.co.uk/wp-content/uploads/2022/03/GREAT-SCOTT_1920x1080-imageonly.jpg
END:VEVENT
BEGIN:VEVENT
DTSTART;TZID=UTC:20240211T193000
DTEND;TZID=UTC:20240211T220000
DTSTAMP:20260421T082538
CREATED:20230811T161024Z
LAST-MODIFIED:20230811T161024Z
UID:1917-1707679800-1707688800@scottbennettcomedy.co.uk
SUMMARY:Blackpool - The Comedy Station - Great Scott Tour
DESCRIPTION:
URL:https://scottbennettcomedy.co.uk/event/blackpool-the-comedy-station-great-scott-tour/
LOCATION:The Comedy Station
ATTACH;FMTTYPE=image/jpeg:https://scottbennettcomedy.co.uk/wp-content/uploads/2022/03/GREAT-SCOTT_1920x1080-imageonly.jpg
END:VEVENT
BEGIN:VEVENT
DTSTART;TZID=UTC:20240209T193000
DTEND;TZID=UTC:20240209T220000
DTSTAMP:20260421T082538
CREATED:20230811T155741Z
LAST-MODIFIED:20230811T160124Z
UID:1914-1707507000-1707516000@scottbennettcomedy.co.uk
SUMMARY:Huddesfield - Lawrence Batley Theatre Studio - Great Scott Tour
DESCRIPTION:
URL:https://scottbennettcomedy.co.uk/event/huddesfield-lawrence-batley-theatre-studio-great-scott-tour/
LOCATION:Lawrence Batley Theatre
ATTACH;FMTTYPE=image/jpeg:https://scottbennettcomedy.co.uk/wp-content/uploads/2022/03/GREAT-SCOTT_1920x1080-imageonly.jpg
END:VEVENT
BEGIN:VEVENT
DTSTART;TZID=UTC:20240208T193000
DTEND;TZID=UTC:20240208T220000
DTSTAMP:20260421T082538
CREATED:20230811T154351Z
LAST-MODIFIED:20230811T154351Z
UID:1911-1707420600-1707429600@scottbennettcomedy.co.uk
SUMMARY:Alnwick - Alnwick Playhouse - Great Scott Tour
DESCRIPTION:
URL:https://scottbennettcomedy.co.uk/event/alnwick-alnwick-playhouse-great-scott-tour/
LOCATION:Alnwick Playhouse
ATTACH;FMTTYPE=image/jpeg:https://scottbennettcomedy.co.uk/wp-content/uploads/2022/03/GREAT-SCOTT_1920x1080-imageonly.jpg
END:VEVENT
END:VCALENDAR